BEGIN:VCALENDAR
VERSION:2.0
PRODID:-//SILLON LAUZÉ - ECPv6.15.20//NONSGML v1.0//EN
CALSCALE:GREGORIAN
METHOD:PUBLISH
X-ORIGINAL-URL:https://www.sillonlz.fr
X-WR-CALDESC:Évènements pour SILLON LAUZÉ
REFRESH-INTERVAL;VALUE=DURATION:PT1H
X-Robots-Tag:noindex
X-PUBLISHED-TTL:PT1H
BEGIN:VTIMEZONE
TZID:Europe/Paris
BEGIN:DAYLIGHT
TZOFFSETFROM:+0100
TZOFFSETTO:+0200
TZNAME:CEST
DTSTART:20190331T010000
END:DAYLIGHT
BEGIN:STANDARD
TZOFFSETFROM:+0200
TZOFFSETTO:+0100
TZNAME:CET
DTSTART:20191027T010000
END:STANDARD
BEGIN:DAYLIGHT
TZOFFSETFROM:+0100
TZOFFSETTO:+0200
TZNAME:CEST
DTSTART:20200329T010000
END:DAYLIGHT
BEGIN:STANDARD
TZOFFSETFROM:+0200
TZOFFSETTO:+0100
TZNAME:CET
DTSTART:20201025T010000
END:STANDARD
BEGIN:DAYLIGHT
TZOFFSETFROM:+0100
TZOFFSETTO:+0200
TZNAME:CEST
DTSTART:20210328T010000
END:DAYLIGHT
BEGIN:STANDARD
TZOFFSETFROM:+0200
TZOFFSETTO:+0100
TZNAME:CET
DTSTART:20211031T010000
END:STANDARD
END:VTIMEZONE
BEGIN:VEVENT
DTSTART;TZID=Europe/Paris:20200201T210000
DTEND;TZID=Europe/Paris:20200201T210000
DTSTAMP:20260420T144803
CREATED:20200113T165141Z
LAST-MODIFIED:20200114T084845Z
UID:5417-1580590800-1580590800@www.sillonlz.fr
SUMMARY:OOSA + Dead Married (concert pop punk garage)
DESCRIPTION:Soirée rock garage et poppy-punk crétin au Sillon Lauzé\, avec deux duos pour une double dose de rock’n’roll et de bonne humeur : \n\nOut Of School Activities qui fêtera en 2020 les 20 ans du groupe\, leur 6ème disque et bientôt leur 500ème concert !! OOSA est revevenu à sa formule en duo : en version boite à rythme\, certes moins punk\, mais plus atypique et plus inclassable\, pour tout autant d’énergie qu’en trio. Ils balancent une sorte de poppy punk crétin assumé sans réserves\, “punch’n’roll” ou “bubblegum-punk surfy” pour teenagers désinvoltes de 7 à 77 ans.\n\nhttps://youtu.be/LJTBsNZmU8o \nhttps://www.facebook.com/Out-Of-School-Activities-141656939218914 \n\nLe couple Dead Married\, duo primitif brut de décoffrage\, garage / rockab’\, du Sud de la France\, a été fondé en 2017 par Delphine Dub\, à la batterie et au chant – auparavant percussionniste chez les VIP – et Charly Little :  guitariste cigar box\, batteur de Circus from Hell\, et ancien batteur d’Atomics Rotors\, ou des Mustang… Et on est tout à fait ravi.e.s de les accueillir à l’occasion de leur Wedding Tour !\n\n\n \nhttps://www.facebook.com/Deadmarried/ \nouverture à 19h\, concert à 21h\, happy hour jusqu’à 20h30\nentrée 5€ (+ adhésion 10€ avec 1 verre offert)
URL:https://www.sillonlz.fr/event/oosa-dead-married/
LOCATION:Sillon Lauzé\, Le Pont Pessil\, Marvejols\, Lozère\, 48100\, France
CATEGORIES:Concert
ATTACH;FMTTYPE=image/jpeg:https://www.sillonlz.fr/wp-content/uploads/2020/01/OOSA-DeadMarried_SLZ_01-02-20.jpg
ORGANIZER;CN="Sillon Lauz%C3%A9":MAILTO:contact@sillonLZ.fr
END:VEVENT
BEGIN:VEVENT
DTSTART;TZID=Europe/Paris:20200207T210000
DTEND;TZID=Europe/Paris:20200207T210000
DTSTAMP:20260420T144803
CREATED:20200101T205822Z
LAST-MODIFIED:20200101T210909Z
UID:5402-1581109200-1581109200@www.sillonlz.fr
SUMMARY:Hugs of the Sky (prog rock psyché - BE)
DESCRIPTION:Hugs of the Sky\, jeune groupe belge explosif\, créé l’année dernière par la fusion de Hugs et The Insect Soldiers of the Sky\, joue un rock psychédélique imparable mêlé de prog / krautrock / stoner / avant garde / jam rock qui fait partir loin\, très loin… \nAprès une année passée à composer\, peaufiner et enregistrer non moins de 3 albums studio (“Hugs of The Sky”\, “Current Weather” et “Virtual Lullaby Circus”)\, les musiciens de Hugs of the Sky ont pris la route dans leur van vintage pour parcourir les clubs et les salles d’Europe afin d’y délivrer des concerts toujours plus habités. \nParmi leurs influences\, on retrouve les Oh Sees\, Mauro Pawlowski\, Ty Segall\, Tim Vanhamel\, King Gizzard & The Lizard Wizard\, et bien d’autres encore… \nA découvrir de toute urgence au Sillon Lauzé\, le vendredi 7 février 2020 à 21h00 !!!! \n \nBandCamp: https://tisots.bandcamp.com\nYouTube: https://youtu.be/Tn5JKrmCt8k\nFacebook: https://www.facebook.com/tisots/ \nOuverture des portes à 19h00. (Happy hour jusqu’à 20h30).\nConcert à 21h00. Participation aux frais : 5€. \n(Adhésion nécessaire et obligatoire à l’association Sillon Lauzé : 10€ pour 12 mois avec un verre offert)
URL:https://www.sillonlz.fr/event/hugs-of-the-sky-be/
LOCATION:Sillon Lauzé\, Le Pont Pessil\, Marvejols\, Lozère\, 48100\, France
CATEGORIES:Concert
ATTACH;FMTTYPE=image/jpeg:https://www.sillonlz.fr/wp-content/uploads/2020/01/Hugs_of_the_sky-SLZ-07-_02_20.jpg
ORGANIZER;CN="Sillon Lauz%C3%A9":MAILTO:contact@sillonLZ.fr
END:VEVENT
BEGIN:VEVENT
DTSTART;TZID=Europe/Paris:20200215T100000
DTEND;TZID=Europe/Paris:20200215T170000
DTSTAMP:20260420T144803
CREATED:20200114T090539Z
LAST-MODIFIED:20200124T102221Z
UID:5449-1581760800-1581786000@www.sillonlz.fr
SUMMARY:Atelier de création sonore
DESCRIPTION:Le Sillon Lauzé et la Compagnie Ecoute-ça proposent un atelier de création sonore (et d’initiation à la musique électro-acoustique)\, le samedi 15 février de 10h00 à 17h00 au café culturel associatif de Marvejols\, avec Bruno Capelle (compositeur\, artiste sonore\, et pédagogue). \nCet atelier prendra la forme d’un atelier ludique d’expérimentation sonore et musicale à travers l’utilisation des “nouvelles technologies” : informatique musicale\, électronique\, analogique… mais aussi de sources acoustiques : corps sonores\, voix\, instruments… \n \nPublic : adultes et enfants à partir de 11 ans\, débutants ou expérimentés. \nRestitution de l’atelier à 19h30 suivie du concert de Bonux à 21h00.\nPAF 5€ + adhésion au Sillon Lauzé.\nRepas partagé tiré du sac à midi. \nRenseignements et inscription (obligatoire\, places limitées !) \nau 06.99.03.84.38 ou par e-mail à icibrunocapelle@gmail.com !
URL:https://www.sillonlz.fr/event/atelier-de-creation-sonore/
LOCATION:Sillon Lauzé\, Le Pont Pessil\, Marvejols\, Lozère\, 48100\, France
CATEGORIES:Atelier
ATTACH;FMTTYPE=image/jpeg:https://www.sillonlz.fr/wp-content/uploads/2020/01/Sillon-Lauzé_jpeg.jpg
ORGANIZER;CN="Sillon Lauz%C3%A9":MAILTO:contact@sillonLZ.fr
END:VEVENT
BEGIN:VEVENT
DTSTART;TZID=Europe/Paris:20200215T210000
DTEND;TZID=Europe/Paris:20200215T210000
DTSTAMP:20260420T144803
CREATED:20200113T182812Z
LAST-MODIFIED:20200114T091101Z
UID:5443-1581800400-1581800400@www.sillonlz.fr
SUMMARY:Concert Bonux - IrisAndBruno (electro fofolk)
DESCRIPTION:Le duo lozérien IrisAndBruno retrouve avec son projet Bonux une communication directe avec le public dans cette forme de concert qui métisse électroacoustique et chanson folk expérimentale immersive. \nUn mélange joyeux de rythmes hypnotiques\, de paysage sonores oniriques\, de textes souvent naïfs\, où leurs expériences musicales multiples s’entrechoquent et se mixent avec bonheur. \nhttps://soundcloud.com/ateliervocal/tracks \nIris Lancery : chant\, machine\, clavier\, percussions\, accordéon…\nBruno Capelle : Guitare\, synthétiseur\, voix…\nCompagnie Écoute ça : https://irisandbruno.com \nSi vous les avez ratés à Mende et au Festival d’Olt en 2019 (ce projet est soutenu en Lozère par la Ville de Mende et le Rudeboy Crew)\, vous n’avez vraiment aucune excuse pour ne pas être des nôtres ce samedi 15 février 2020 !\n \nOuverture à 19h00 avec la restitution de l’atelier de création sonore mené par Bruno Capelle en journée. Happy Hour jusqu’à 20h30. Concert à 21h00. PAF 5€.
URL:https://www.sillonlz.fr/event/concert-bonux-irisandbruno-electro-fofolk/
LOCATION:Sillon Lauzé\, Le Pont Pessil\, Marvejols\, Lozère\, 48100\, France
CATEGORIES:Concert
ATTACH;FMTTYPE=image/jpeg:https://www.sillonlz.fr/wp-content/uploads/2020/01/IrisAndBruno_Bonux-SLZ-15-_02_20.jpg
ORGANIZER;CN="Sillon Lauz%C3%A9":MAILTO:contact@sillonLZ.fr
END:VEVENT
BEGIN:VEVENT
DTSTART;TZID=Europe/Paris:20200220T190000
DTEND;TZID=Europe/Paris:20200220T230000
DTSTAMP:20260420T144803
CREATED:20200211T135838Z
LAST-MODIFIED:20200212T092238Z
UID:5461-1582225200-1582239600@www.sillonlz.fr
SUMMARY:Sôa (concert poétique) + Les Mots Sillon
DESCRIPTION:≈ Sôa… C’est un mélange d’ici et de là-bas…\nUne invitation poétique…\nUne invitation au voyage\,\nEntre la voix chantée et la voix parlée. \nSôa… C’est une vague…\nUne vague musicale\,\nSur laquelle ondule la voix… \nDans ce projet mêlant lecture de texte\,\nmusique et chant\,\nSôa vous propose un regard\, une écoute\,\nsur l’exil et ses échos… ≈ \nAccompagnée d’Olivier Poli\, multi-instrumentiste\, et Alex Néron à la clarinette\,​\nSana Essoufi met en voix ses écrits… \n+ d’infos sur Sôa ici. \nA partir de 12 ans. PAF 5€\nOuverture à 19h00. Les Mots Sillon à partir de 19h30.\n(1ère partie scène ouverte de lectures autour de l’exil)\nHappy Hour jusqu’à 20h30. Début du concert à 21h00.
URL:https://www.sillonlz.fr/event/soa-concert-poetique-les-mots-sillon/
LOCATION:Sillon Lauzé\, Le Pont Pessil\, Marvejols\, Lozère\, 48100\, France
CATEGORIES:Concert,Scène Ouverte
ATTACH;FMTTYPE=image/jpeg:https://www.sillonlz.fr/wp-content/uploads/2020/01/affiche-soa-sillon-lauzé-OK-scaled.jpg
ORGANIZER;CN="Sillon Lauz%C3%A9":MAILTO:contact@sillonLZ.fr
END:VEVENT
BEGIN:VEVENT
DTSTART;TZID=Europe/Paris:20200221T190000
DTEND;TZID=Europe/Paris:20200221T190000
DTSTAMP:20260420T144803
CREATED:20200217T171618Z
LAST-MODIFIED:20200217T171618Z
UID:5484-1582311600-1582311600@www.sillonlz.fr
SUMMARY:AG 2020 + Soirée Sillons Éclectiques
DESCRIPTION:L’Assemblée Générale des Adhérent.e.s du Sillon Lauzé aura lieu vendredi 21 février à 19h00. \nTou.te.s les adhérent.e.s de l’association y sont convié.e.s : en effet cette assemblée annuelle est l’occasion de réunir la communauté des adhérents pour\, ensemble\, faire le point sur l’état moral et financier de l’association\, (re-)définir ou préciser les grandes lignes du projet associatif et le fonctionnement de l’équipe dirigeante. \nLes points suivants y seront abordés : \n\nle bilan moral et financier de l’année 2019\nla possible création d’un emploi aidé (administratif & comm’)\nles besoins de l’association en terme d’implication bénévole\nles volontés et modalités de partenariats entre le Sillon et d’autres associations\n\n…et seront suivis d’un échange autour de vos questions et autres remarques diverses. \nLa soirée continuera ensuite aux platines et sur le dancefloor\, alors n’hésitez pas à apporter vos morceaux préférés (en vinyle\, cd\, ou mp3 sur clé usb) pour faire vibrer les Sillons Éclectiques jusqu’à 01h du matin\, trinquer en musique à la suite de l’aventure\, chanter\, et danser\, bien sûr…
URL:https://www.sillonlz.fr/event/ag-2020-soiree-sillons-eclectiques/
LOCATION:Sillon Lauzé\, Le Pont Pessil\, Marvejols\, Lozère\, 48100\, France
CATEGORIES:Rencontre,Soirée Platines
ATTACH;FMTTYPE=image/jpeg:https://www.sillonlz.fr/wp-content/uploads/2020/02/AG_Platines-SLZ-21_02_20.jpg
ORGANIZER;CN="Sillon Lauz%C3%A9":MAILTO:contact@sillonLZ.fr
END:VEVENT
BEGIN:VEVENT
DTSTART;TZID=Europe/Paris:20200222T140000
DTEND;TZID=Europe/Paris:20200222T230000
DTSTAMP:20260420T144803
CREATED:20200212T122707Z
LAST-MODIFIED:20200212T123627Z
UID:5475-1582380000-1582412400@www.sillonlz.fr
SUMMARY:Samedi Ludi'Sillon (jeux de société)
DESCRIPTION:Un samedi d’amusement\, de rencontre et d’échange autour du jeu : dès 14h00 et jusqu’en soirée\, le samedi 22 février sera dédié aux jeux de société au Sillon Lauzé ! Le café culturel associatif de Marvejols vous propose dès 14h00 de venir partager une après-midi et une soirée de convivialité\, d’amusement\, de découverte et de réflexion\, autour des jeux apportés par Flo Houb V. – ancien gérant de boutique ludique et amateur de toutes sortes de jeux\, des plus simples aux experts – c’est un fanatique !! Il nous présentera sa sélection de jeux du moment\, ses coups de cœur détente / réflexion / stratégie / coopération\, pour quelques rounds rapides ou pour de longues soirées…  \n \nOn profitera de la venue de Houb pour présenter une démo d’impression 3D en après-midi\, et les applications ludico-pratiques de cette technique de fabrication maison. Houb confectionne ainsi actuellement son propre jeu d’échecs opposant les personnages Marvel à ceux de DC Comics\, mais aussi des figurines de jeux de rôles\, des “pimp” de boites de jeux afin de pouvoir ranger joliment tous les pions et accessoires parfois livrés en vrac\, etc… \nDès 14h00. Prix libre. \nAdhésion au café asso (+ 1 boisson offerte) : 10€ / an (de date à date). \n 
URL:https://www.sillonlz.fr/event/samedi-ludisillon-jeux-de-societe/
LOCATION:Sillon Lauzé\, Le Pont Pessil\, Marvejols\, Lozère\, 48100\, France
CATEGORIES:Jeux,Rencontre
ATTACH;FMTTYPE=image/jpeg:https://www.sillonlz.fr/wp-content/uploads/2020/02/Jeux_Houb-SLZ-22_02_20.jpg
ORGANIZER;CN="Sillon Lauz%C3%A9":MAILTO:contact@sillonLZ.fr
END:VEVENT
BEGIN:VEVENT
DTSTART;TZID=Europe/Paris:20200227T210000
DTEND;TZID=Europe/Paris:20200227T210000
DTSTAMP:20260420T144803
CREATED:20200129T142820Z
LAST-MODIFIED:20200129T142820Z
UID:5457-1582837200-1582837200@www.sillonlz.fr
SUMMARY:LUCI + ADOLF HIBOU (Hip Hop US / Noise Rock Fr)
DESCRIPTION:LE concert à ne pas manquer ce mois-ci au Sillon Lauzé\, c’est indéniablement celui-ci avec ADOLF HIBOU et Adam Stone alias LUCI\, et au Sillon Lauzé\, on le sait parce qu’on a déjà pris notre claque avec cet ovni l’an dernier\, mais c’était un dimanche de décembre bien froid et hormis deux-trois irréductibles et une poignée de bénévoles\, vous n’y étiez pas !! Attention\, cette fois\, c’est un JEUDI\, et c’est même pas férié le lendemain\, mais si vous êtes à l’heure\, promis on essaiera de finir pas trop trop tard ! \n♥ ♥ ♥ ♥ ♥ ♥ ♥ ♥ ♥ ♥ ♥ ♥ ♥ ♥ ♥ ♥ ♥ ♥ ♥ ♥ ♥ ♥ ♥ ♥ ♥ ♥ ♥ ♥ ♥ ♥ ♥ \nLUCI souffle un courant expérimental de conscience dans les eaux boueuses et profondes de la crasse américaine liquéfiée. Humour du fou\, bêtes du mythe\, sexualité déroutante et cœur d’un sincère romantique. Des rimes bien ficelées fusent dans les courses de Luci à travers différents genres\, assemblées dans une méticuleuse composition sonore. Jouant sur la poésie d’une traduction défaillante\, soutenue par de la vidéo et beaucoup de volume sonore\, Luci apporte une explosion extatique qui bat\, broie\, perce et danse\, menant à quelque chose de sauvage. \nhttps://screwtoothluci.bandcamp.com/ \n♥ ♥ ♥ ♥ ♥ ♥ ♥ ♥ ♥ ♥ ♥ ♥ ♥ ♥ ♥ ♥ ♥ ♥ ♥ ♥ ♥ ♥ ♥ ♥ ♥ ♥ ♥ ♥ ♥ ♥ ♥ \nQuant au boys-band bourrin et inclassable ADOLF HIBOU (Nils bertho\, Bruno Ducret et Gaël Magnieux)\, les trois larrons en foire qui le composent se plaisent à le décrire comme un mignon mélange de génériques des Musclés et de noise rock hystérique et sur-puissant. Autant dire qu’on va passer une sacrée soirée ! \nhttps://adolfhibou.bandcamp.com/ \n♥ ♥ ♥ ♥ ♥ ♥ ♥ ♥ ♥ ♥ ♥ ♥ ♥ ♥ ♥ ♥ ♥ ♥ ♥ ♥ ♥ ♥ ♥ ♥ ♥ ♥ ♥ ♥ ♥ ♥ ♥ \nhttps://www.youtube.com/watch?v=w07l_Z_9mI0 \nPAF : 5€ adhérent.e.s.\nAdhésion annuelle : 10€ avec un verre offert. \nOuverture === 19h00.\nHappy Hour ≤ 20h30.\nConcerts === 21h00.
URL:https://www.sillonlz.fr/event/luci-adolf-hibou-hip-hop-us-noise-rock-fr/
LOCATION:Sillon Lauzé\, Le Pont Pessil\, Marvejols\, Lozère\, 48100\, France
CATEGORIES:Concert
ATTACH;FMTTYPE=image/jpeg:https://www.sillonlz.fr/wp-content/uploads/2020/01/LUCI-SLZ-27-_02_20.jpg
ORGANIZER;CN="Sillon Lauz%C3%A9":MAILTO:contact@sillonLZ.fr
END:VEVENT
END:VCALENDAR