BEGIN:VCALENDAR
VERSION:2.0
PRODID:-//SILLON LAUZÉ - ECPv6.15.20//NONSGML v1.0//EN
CALSCALE:GREGORIAN
METHOD:PUBLISH
X-ORIGINAL-URL:https://www.sillonlz.fr
X-WR-CALDESC:Évènements pour SILLON LAUZÉ
REFRESH-INTERVAL;VALUE=DURATION:PT1H
X-Robots-Tag:noindex
X-PUBLISHED-TTL:PT1H
BEGIN:VTIMEZONE
TZID:Europe/Paris
BEGIN:DAYLIGHT
TZOFFSETFROM:+0100
TZOFFSETTO:+0200
TZNAME:CEST
DTSTART:20180325T010000
END:DAYLIGHT
BEGIN:STANDARD
TZOFFSETFROM:+0200
TZOFFSETTO:+0100
TZNAME:CET
DTSTART:20181028T010000
END:STANDARD
BEGIN:DAYLIGHT
TZOFFSETFROM:+0100
TZOFFSETTO:+0200
TZNAME:CEST
DTSTART:20190331T010000
END:DAYLIGHT
BEGIN:STANDARD
TZOFFSETFROM:+0200
TZOFFSETTO:+0100
TZNAME:CET
DTSTART:20191027T010000
END:STANDARD
BEGIN:DAYLIGHT
TZOFFSETFROM:+0100
TZOFFSETTO:+0200
TZNAME:CEST
DTSTART:20200329T010000
END:DAYLIGHT
BEGIN:STANDARD
TZOFFSETFROM:+0200
TZOFFSETTO:+0100
TZNAME:CET
DTSTART:20201025T010000
END:STANDARD
END:VTIMEZONE
BEGIN:VEVENT
DTSTART;TZID=Europe/Paris:20191102T210000
DTEND;TZID=Europe/Paris:20191102T210000
DTSTAMP:20260420T192416
CREATED:20191023T113913Z
LAST-MODIFIED:20191102T143408Z
UID:5282-1572728400-1572728400@www.sillonlz.fr
SUMMARY:Concert de Rimojeki (Space Rock)
DESCRIPTION:Nom: Rimojeki – לטאות הענק מכוכב הניבירו\nPlanète : Nibiru. \nDepuis leur départ d’Israël vers l’Europe\, le duo Rimojeki (couple de choc à la ville comme à la scène)\, affranchi de toute appartenance religieuse ou politique\, se définit comme “deux extra-terrestres humain.e.s\, athéïstes reptilien.ne.s\, puisant les sources de leur art dans un imaginaire débordant\, l’amour de la vie\, l’acceptation de la folie de l’existence\, de la vérité scientifique et de la mort\, ainsi que dans l’espace intersidéral et les milliers de divinités de la planète Nibiru”… \n \nRythmiques hypnotiques\, riffs de guitare stoner\, synthés trashy\, voix extra-terrestre\, thérémine et art vidéo sont les composantes de base de la musique qu’ils composent et présentent en concert sous forme d’une cérémonie de sorcier.e.s modernes portant un message de liberté et de paix. \nVoyageant à travers le monde dans leur vaisseau spatial pour partager leur histoire et leur musique dans les cafés concerts\, les festivals et les rave-parties\, Rimo et Jeki atterriront à Marvejols\, au Sillon Lauzé\, le mardi 29 octobre\, pour préparer avec vous\, avec nous\, leur performance du samedi 02 novembre ! \nUne scénographie et une performance exclusives\, créées et réalisées\, donc\, avec les adhérent.e.s et bénévoles du Sillon durant quatre jours de résidence artistique\, accompagnera leur show ! \nEn voici quelques étapes : \n \nhttps://www.rimojeki.com/ \nOuverture à 19h00. Happy hour jusqu’à 20h30.\nConcert à 21h30.
URL:https://www.sillonlz.fr/event/concert-de-rimojeki-space-rock/
LOCATION:Sillon Lauzé\, Le Pont Pessil\, Marvejols\, Lozère\, 48100\, France
CATEGORIES:Concert
ATTACH;FMTTYPE=image/jpeg:https://www.sillonlz.fr/wp-content/uploads/2019/10/rimojeki_02-11-19_SLZ.jpg
ORGANIZER;CN="Sillon Lauz%C3%A9":MAILTO:contact@sillonLZ.fr
END:VEVENT
BEGIN:VEVENT
DTSTART;TZID=Europe/Paris:20191108T200000
DTEND;TZID=Europe/Paris:20191108T200000
DTSTAMP:20260420T192416
CREATED:20190925T055052Z
LAST-MODIFIED:20191021T130013Z
UID:5239-1573243200-1573243200@www.sillonlz.fr
SUMMARY:Les Félines aux Platines
DESCRIPTION:Vendredi 08 novembre\, Les Félines reprennent les platines du Sillon Lauzé pour une soirée dansante et surprenante\, comme elles en ont le secret. Avec elles\, chaque morceau est une évidence\, jamais celle à laquelle on s’attend\, et pourtant\, à chaque fois\, on danse ! \nBref\, on vous attend nombreuses et nombreux à cette soirée Félines de rentrée. Et pour se mettre en jambes\, voilà deux heures de mix de leur boum de l’an dernier… \n \nOuverture à 19h00. Happy hour jusqu’à 20h30. Prix libre. Adhésion 10€ pour l’année (de date à date) avec un verre offert.
URL:https://www.sillonlz.fr/event/les-felines-aux-platines/
LOCATION:Sillon Lauzé\, Le Pont Pessil\, Marvejols\, Lozère\, 48100\, France
CATEGORIES:Soirée Platines
ATTACH;FMTTYPE=image/jpeg:https://www.sillonlz.fr/wp-content/uploads/2019/09/Felines_08-11-19_SLZ-1.jpg
ORGANIZER;CN="Sillon Lauz%C3%A9":MAILTO:contact@sillonLZ.fr
END:VEVENT
BEGIN:VEVENT
DTSTART;TZID=Europe/Paris:20191109T100000
DTEND;TZID=Europe/Paris:20191110T183000
DTSTAMP:20260420T192416
CREATED:20190925T052802Z
LAST-MODIFIED:20190925T053116Z
UID:5233-1573293600-1573410600@www.sillonlz.fr
SUMMARY:Stage de Théâtre Improvisé : Le Non-Dit...
DESCRIPTION:… et spectacle Tesselles. \nAmélie Rolland\, comédienne improvisatrice et metteuse en scène\, et Matthieu MASSÉ\, comédien et musicien improvisateur proposent un stage de 2 jours + la mise en scène d’un spectacle de sortie de stage. \nDescriptif du stage :\nLe stage est en 2 parties.\nLa première est consacrée des exercices et expériences axés sur le non-dit comme ressort de jeu.\nLa deuxième partie est consacrée au travail sur la trame du spectacle.\nAmélie dirige le stage sous son aspect théâtral et assure la mise en scène.\nMatthieu dirige le stage sous son aspect musical et assure la mise en musique. \nPremière partie\nLa thématique des non-dits est puissante et universelle.\nJouer la tension dramatique de ce qui ne se dit pas\, permet de travailler précisément des personnages et d’établir des relations fortes entre eux.\nNous vous proposons donc de travailler en improvisation théâtrale sur des canevas mettant notamment en scène le secret\, le quiproquo\, le malentendu…\nPour évoluer sur le fil de ce qui ne se dit pas et d’en tirer les ficelles.\nPour explorer les possibilités des ressorts dramatiques et comiques induits par le non dit.\nPuis nous travaillerons sur la révélation et son après : quelle force donner à la révélation et comment gérer l’après ? Une fois que le non dit est dit… \nDeuxième partie\nT E S S E L L E S\npièce de théâtre improvisée. \ntesselle\, nf : fragment de matériau employé dans les mosaïques \nComment les rencontres transforment nos vies ?\nQuand des fragments de vies de personnages s’assemblent\, une histoire se créée.\nAu gré de leurs inspirations de l’instant\, les comédiens et musiciens improvisateurs tissent les fils de relations entre des personnages. \nAmélie ROLLAND\nComédienne improvisatrice d’abord\, formatrice ensuite\, Amélie est aussi metteuse en scène. Dans le cadre de ses ateliers et stages\, elle travaille auprès de différents publics\, de tous âges\, et monte de nombreux spectacles. Après 33 ans de vie parisienne\, elle part s’installer dans l’Aveyron en 2015. Elle y poursuit sa route théâtrale en axant de plus en plus son travail sur la mise en scène du théâtre improvisé. C’est ainsi que\, notamment\, naît T E S S E L L E S. Elle travaille dans l’Aveyron\, en Lozère\, en région parisienne\, et aussi ailleurs…\nMettre en scène et improviser n’est pas incompatible\, au contraire…\nAmélie travaille dans ce sens : faire émerger la fulgurance\, l’imprévu\, la sincérité du jeu improvisé dans une pièce mise en scène. Transmettre\, partager\, mettre en scène la liberté de jeu\, ce sont les moteurs qu’elle souhaite véhiculer. \nMatthieu MASSÉ\nDepuis plus de 15 ans\, Matthieu foule les différentes scènes d’improvisation partout en France.\nComédien professionnel\, il travaille avec l’Adiv de Poitiers\, Quiproquos Théâtre\, Aline et Cie\, Cie O’Kazoo\,la Cie Plein Vent\, un Bruit de Grelot…\nIl est également formateur dans le théâtre d’improvisation auprès d’associations : Ludi Poitiers\, Quiproquos théâtre\, Aline et Cie\, Ligues d’improvisations de Bordeaux\, qui lui permettent de travailler avec différents publics : enfants\, adolescents\, étudiants\, adultes…\nMusicien\, il pratique la guitare\, la contrebasse\, le piano…Après une formation dans la musique minimaliste auprès du collectif D-Zakord et Erik Baron\, aujourd’hui\, il met cette expérience au service de différents spectacles improvisés tels que : le chapitre inventé\, les restitutions improvisées\, le Deus-ex-machina\,\net donc … T E S S E L L E S . \nInfos / Inscription : \ncompagnie.encyclie@gmail.com / 06 63 58 37 29 (Amélie) \nPossibilité d’hébergement en gîte (à préciser lors de la demande d’inscription).
URL:https://www.sillonlz.fr/event/stage-de-theatre-improvise-le-non-dit/
LOCATION:Sillon Lauzé\, Le Pont Pessil\, Marvejols\, Lozère\, 48100\, France
CATEGORIES:Atelier,Théâtre d'impro
ATTACH;FMTTYPE=image/jpeg:https://www.sillonlz.fr/wp-content/uploads/2019/09/70950006_921442718235305_2451874882279964672_o.jpg
ORGANIZER;CN="Compagnie Encyclie":MAILTO:compagnie.encyclie@gmail.com
END:VEVENT
BEGIN:VEVENT
DTSTART;TZID=Europe/Paris:20191110T193000
DTEND;TZID=Europe/Paris:20191110T193000
DTSTAMP:20260420T192416
CREATED:20191110T120442Z
LAST-MODIFIED:20191110T120519Z
UID:5306-1573414200-1573414200@www.sillonlz.fr
SUMMARY:T E S S E L L E S (théâtre d'impro)
DESCRIPTION:Dimanche 10 Novembre à 19h30 : T E S S E L L E S – pièce de théâtre improvisée. \nMise en scène : Amélie Rolland\nMise en musique : Matthieu Massé\nAvec les participants au stage “le non-dit comme ressort de jeu” \ntesselle\, nf : fragment de matériau employé dans les mosaïques \nComment les rencontres transforment nos vies ? \nQuand des fragments de vies de personnages s’assemblent\, une histoire se créée.\nAu gré de leurs inspirations de l’instant\, les comédiens et musiciens improvisateurs tissent les fils de relations entre des personnages. \nOuverture du bar : 19h (adhésion au Sillon obligatoire pour consommer\, si ce n’est déjà fait : 10€ pour un an\, avec un verre offert)\nP.A.F. : 5 € \nVisuel : Élisabeth Bouchaud (https://www.facebook.com/elisbabethb)
URL:https://www.sillonlz.fr/event/t-e-s-s-e-l-l-e-s/
LOCATION:Sillon Lauzé\, Le Pont Pessil\, Marvejols\, Lozère\, 48100\, France
CATEGORIES:Théâtre d'impro
ATTACH;FMTTYPE=image/jpeg:https://www.sillonlz.fr/wp-content/uploads/2019/11/75339448_958183857894524_415273696291192832_o.jpg
ORGANIZER;CN="Compagnie Encyclie":MAILTO:compagnie.encyclie@gmail.com
END:VEVENT
BEGIN:VEVENT
DTSTART;TZID=Europe/Paris:20191114T190000
DTEND;TZID=Europe/Paris:20191114T190000
DTSTAMP:20260420T192416
CREATED:20191110T112308Z
LAST-MODIFIED:20191110T112943Z
UID:5303-1573758000-1573758000@www.sillonlz.fr
SUMMARY:The Division Men (+ Les Mots Sillon)
DESCRIPTION:Sillon Lauzé a le grand plaisir et l’immense privilège d’accueillir The Division Men ce jeudi 14 novembre\, pour un concert acoustique à l’esthétique dark folk. \nLe son très caractéristique de The Division Men\, éthéré et obsédant\, a tout de suite séduit les bénévoles du Sillon Lauzé\, qui ont choisi d’associer ce concert à la soirée Les Mots Sillon du mois de Novembre\, afin de profiter de la qualité d’écoute que nous connaissons lors de cette scène ouverte de lectures\, qui sera consacrée à cette occasion aux thématiques du voyage et des grands espaces. \n \nFormé à l’origine à Berlin en 2008\, J. Spencer Portillo (chant / guitare acoustique) et de Caroline Rippy Portillo (chant / guitare basse)\, couple à la ville et duo à la scène\, sont maintenant basés à Austin\, Texas.. \nCaroline est née à San Antonio\, au Texas. De 2007 à 2012\, elle a joué de la guitare basse au sein du groupe de rock latino Tito & Tarantula\, tandis que J. Spencer Portillo\, né à Los Angeles\, en Californie\, a grandi à El Paso\, au Texas. Ses racines à El Paso exercent une influence considérable sur les paroles\, qui présentent souvent des portraits atmosphériques de l’amour\, de la vie et de la mort dans une ville frontalière. \nhttp://www.divisionmen.com/ \nNous vous attendons donc nombreux\, attentifs et respectueux\, dès 19h00 avec un texte que vous souhaitez partager autour du voyage ou des grands espaces\, ou à partir de 21h00 pour découvrir l’univers sombre et romantique de The Division Men\, dont le concert débutera à 21h30. \nEntrée concert : 5€ .\n(+ adhésion au Sillon Lauzé : 10€ avec un verre offert).
URL:https://www.sillonlz.fr/event/the-division-men-les-mots-sillon/
LOCATION:Sillon Lauzé\, Le Pont Pessil\, Marvejols\, Lozère\, 48100\, France
CATEGORIES:Concert,Scène Ouverte
ATTACH;FMTTYPE=image/jpeg:https://www.sillonlz.fr/wp-content/uploads/2019/11/TheDivisionMen_SLZ_14-11-19.jpg
ORGANIZER;CN="Sillon Lauz%C3%A9":MAILTO:contact@sillonLZ.fr
END:VEVENT
BEGIN:VEVENT
DTSTART;TZID=Europe/Paris:20191120T093000
DTEND;TZID=Europe/Paris:20191120T113000
DTSTAMP:20260420T192416
CREATED:20191118T130348Z
LAST-MODIFIED:20191118T132805Z
UID:5327-1574242200-1574249400@www.sillonlz.fr
SUMMARY:Récré À Sillon
DESCRIPTION:Envie de prendre un verre avec votre tribu ?  \nC’est désormais possible\, grâce au nouveau concept de la “Récré-à-Sillon”. Ce moment s’adresse aux enfants\, dès leur plus jeune âge\, accompagnés d’un adulte\, mais aussi aux femmes enceintes\, aux papas et mamans\, solo ou à plusieurs\, aux grands-mères et grands-pères\, à celles et ceux qui souhaitent rencontrer d’autres parents pour échanger\, papoter\, créer\, se poser\, avec ou sans les enfants etc. \nSillon Lauzé\, le café culturel associatif de Marvejols\, se transformera à cette occasion en un lieu d’accueil\, d’expérience\, de créativité\, dans un rapport de confiance\, de respect\, de liberté\, de citoyenneté\, de non-violence\, d’ouverture au monde et à la culture pour les mineur.e.s et leurs familles un mercredi par mois\, de 9h30 à 11h30. \nDeux espaces distincts seront mis en place : \n\nun espace ludique\, créatif\, mis à la disposition des enfants\, dans le cadre de l’atelier proposé ou pas\,\nun espace salon cosy pour les adultes.\n\nDivers thèmes ont été proposés : \n\nart et récup’\,\néveil musical –\n\nles instruments (découverte et pratique)\ndécouverte de la radio (et réalisation d’une mini “EmiSillon”)\,\n\n\nlecture de contes\,\nmarionnettes (confection et spectacle)\ndanse\, gym\, yoga\,\njeux de société\,\nprojections.\n\nNous avons fixé le nombre de bénévoles présent.e.s à 3 minimum : \n\n1 bénévole/animateur ou animatrice de référence pour les enfants\,\n1 bénévole/médiateur ou médiatrice pour les adultes\,\net 1 bénévole pour assurer le service au bar et pouvoir relayer les 2 autres si besoin.\n\nLes accompagnant.e.s adultes devront être adhérent.e.s à l’association Sillon Lauzé. Si ce n’est pas encore le cas\, une cotisation de 10 euros par personne sera demandée pour un an d’adhésion (de date à date). Une caisse de donation libre sera également disponible.
URL:https://www.sillonlz.fr/event/recre-a-sillon/
LOCATION:Sillon Lauzé\, Le Pont Pessil\, Marvejols\, Lozère\, 48100\, France
CATEGORIES:Rencontre
ATTACH;FMTTYPE=image/jpeg:https://www.sillonlz.fr/wp-content/uploads/2019/11/SLZ_recre_a_sillon_20-11-19-2.jpg
ORGANIZER;CN="Sillon Lauz%C3%A9":MAILTO:contact@sillonLZ.fr
END:VEVENT
BEGIN:VEVENT
DTSTART;TZID=Europe/Paris:20191123T210000
DTEND;TZID=Europe/Paris:20191123T210000
DTSTAMP:20260420T192416
CREATED:20191110T144532Z
LAST-MODIFIED:20191110T145851Z
UID:5300-1574542800-1574542800@www.sillonlz.fr
SUMMARY:La Perdrix (live électro démago)
DESCRIPTION:La Méouge est une rivière du sud-est de la France qui prend sa source dans la Drôme sur la commune de Barret-de-Lioure et traverse les Hautes-Alpes (régions Auvergne-Rhône-Alpes et Provence-Alpes-Côte d’Azur).\n \nLe collectif Méouge Attack\, qui\, lui\, prend sa source dans ce sous-affluent du Rhône par la Durance\, envoie La Perdrix jouer son live set en Lozère\, comme en vol de reconnaissance\, pour débusquer les amateurs de musique électronique\, par une approche démagogique. \nAccompagné aux visuels live par TomTomix et eM Tv\, deux bénévoles au Sillon Lauzé\, membres de longue date de la communauté VJ* francophone sur une mise en espace conçue et réalisée spécialement pour la soirée.  \nhttps://soundcloud.com/user-648799796/meouge-1 \nOuverture à 19h00. Happy Hour jusqu’à 20h30.\nDébut du live vers 21h00. Entrée 5€\n(+ adhésion annuelle SLZ – comme toujours\, si vous ne l’avez pas encore\, 10€ avec un verre offert) \n* VJ : Vidéo Jockey (comme un Disc Jockey\, mais avec des images)
URL:https://www.sillonlz.fr/event/la-perdrix-live-electro-demago/
LOCATION:Sillon Lauzé\, Le Pont Pessil\, Marvejols\, Lozère\, 48100\, France
CATEGORIES:Concert,Soirée Platines
ATTACH;FMTTYPE=image/jpeg:https://www.sillonlz.fr/wp-content/uploads/2019/11/la_perdrix_SLZ_23-11-19-1.jpg
ORGANIZER;CN="Sillon Lauz%C3%A9":MAILTO:contact@sillonLZ.fr
END:VEVENT
BEGIN:VEVENT
DTSTART;TZID=Europe/Paris:20191128T203000
DTEND;TZID=Europe/Paris:20191128T233000
DTSTAMP:20260420T192416
CREATED:20191113T113952Z
LAST-MODIFIED:20191120T140823Z
UID:5322-1574973000-1574983800@www.sillonlz.fr
SUMMARY:Improvise A Sillon (théâtre d'impro)
DESCRIPTION:Tou.te.s au Sillon !!! Les Lunatiques remettent ça !! \nEt oui\, une nouvelle soirée de spectacles d’improvisation vous attend\, nous attend\, le jeudi 28 novembre\, présenté par ce club de théâtre un peu spécial qui sévit régulièrement en nos murs… Un club très sélect\, dont vous avez peut-être eu le privilège de rencontrer certains membres lors de leur dernière soirée A Voir et A Manger ? \nSi ce n’est pas le cas\, voilà une bonne occasion de vous y frotter. Asocial Club\, certes\, mais convivial quoi qu’il en soit… N’ayez crainte\, nulle victime n’a été à déplorer sur leurs précédents exploits… Bien au contraire\, ce ne sont que sourires et regards pétillants que l’on croise au cours des soirées d’impro qu’ils concoctent avec brio… (“Avec qui ?!”) \nMais le mieux est encore de venir vous rendre compte par vous-mêmes\, et si vous les connaissez déjà\, il n’est rien ici que l’on vous apprenne ! Le rendez-vous\, lui\, est pris. Reste à y faire honneur\, gloire\, et beauté. Et pour cela\, il faut vraiment que tu viennes. \n  \nOuverture à 19h00. happy Hour jusqu’à 20h30. \nSpectacle à 20h30 : prix libre et conscient pour les adhérent.e.s. Vous connaissez la chanson. (Et sinon elle est fort simple : le Sillon Lauzé est un café associatif\, l’adhésion – individuelle et obligatoire – coûte 10€ pour l’année\, avec un verre offert pour votre première soirée\, et vous permet d’accéder à un monde merveilleux d’événements culturels variés\, souvent musicaux\, mais pas que… Bref\, venez voir sur place\, on vous expliquera ça encore mieux\, surtout eux !)
URL:https://www.sillonlz.fr/event/improvise-a-sillon-theatre-dimpro/
LOCATION:Sillon Lauzé\, Le Pont Pessil\, Marvejols\, Lozère\, 48100\, France
CATEGORIES:Théâtre d'impro
ATTACH;FMTTYPE=image/jpeg:https://www.sillonlz.fr/wp-content/uploads/2019/11/improvise_a_sillon_28-11_SLZ.jpg
ORGANIZER;CN="Sillon Lauz%C3%A9":MAILTO:contact@sillonLZ.fr
END:VEVENT
BEGIN:VEVENT
DTSTART;TZID=Europe/Paris:20191130T210000
DTEND;TZID=Europe/Paris:20191130T210000
DTSTAMP:20260420T192416
CREATED:20191107T202801Z
LAST-MODIFIED:20191129T185938Z
UID:5295-1575147600-1575147600@www.sillonlz.fr
SUMMARY:The Toulouse Rock'n'Roll Connection
DESCRIPTION:Grosse soirée Rock Ferraille et Vaudou Trash Blues ce samedi 30/11 au Sillon Lauzé\, où on a le plaisir de recevoir The Toulouse Rock’n’Roll Connection : deux groupes toulousains assez potes qui dépotent\, chacun dans leur style. \nL’un balance un punk 77 sauvage\, quand l’autre nous emmène aux confins de la culture blues à dos de crocodiles. \n————————–————————–——\nSILLY WALK + The WILD ZOMBIES\n————————–————————–—— \nQuand Toulouse n’est pas que la capitale mondiale du Rock’nRoll mais bien aussi cette rue qui traverse Vieux Carré à la Nouvelle-Orléans. Voilà trois ans que les quatre bâtards des WILD ZOMBIES distillent ce qu’ils nomment un “Voodoo Trash Blues”. \nMuddy Waters demande Poison Ivy en mariage\, avec Dr John en maître de cérémonie et Jeffrey Lee Pierce comme témoin. \nSur scène c’est généreux et énergique. Une voix rauque\, une guitare lysergique parfois slide\, une autre âprement fuzzée ou parfois surf et un basse-batterie tinté d’un groove dont certains popotins se souviennent. \nLo’Spider aux manettes\, ils engendrent une synthèse de Rock’n’Roll\, de Garage et de Blues. La géographie en est bouleversée\, le fleuve Mississippi finit sa course sur les côtes australiennes.En refusant de choisir de choisir entre leurs différentes influences\, les Wild Zombies en tirent un son rugueux\, live et lacéré de bottleneck. L’harmonica tranchant de Seb Puget (Les Milliardaires) vient saigner deux titres à blanc. \nUn road trip d’Itta Bena à la Nouvelle-Orléans avec un crochet par Detroit superbement illustré dans le clip réalisé par T. Zed (ex Taïkonaut) : “Cesar’s Boogie” (ou « Comment se remettre d’une soirée difficile en invoquant les esprits vaudous ») : \nhttps://www.youtube.com/watch?v=ILb5fSycJb0 \n————————–————————–———–\nhttp://www.thewildzombies.com\n————————–————————–———– \nEx quatuor punk rock toulousain au chant féminin\, les trois pingouins aux ailes dans le vent du SILLY WALK forment désormais un Power Rock Trio au chant masculin. \nIls abordent des sujets profonds et insensés comme “My babe is gone with my telephone”\, “Fingers up” ou encore “I want more!” sur fond de punk 77 sauvage ! \nUne démarche (pas si stupide) autant inspirés par The Avengers\, The Heartbreakers\, ou par certains Ramones\, que par les étendoirs à linge ou les tireuses à bière. \nIls pourraient vous surprendre en revisitant des classiques (sauce épicée s’il vous plaît !) ou par leurs compositions simples et efficaces\, sincères et spontanées. \nSILLY WALK c’est avant tout de l’énergie. Une énergie qui donne l’envie soudaine de renfiler ses vieilles Doc Martens\, ressortir son Perfecto de la naphtaline et remuer la tête du bas vers le haut\, du haut vers le bas\, de droite à gauche\, de gauche à droite\, un coude par-ci\, un genou par-là… \nAttachez vos ceintures\, c’est parti.\nhttps://sillywalk.bandcamp.com/releases \n—————————————————————\nhttps://www.facebook.com/sillywlk/\n————————————————————— \nEntrée concert  5€ ou + (selon vos possibilités financières !)\n(Adhésion annuelle au Sillon Lauzé : 10€ de date à date\, avec un verre offert).\nOuverture à 19h00. Happy Hour jusqu’à 20h30. Début des concerts à 21h00.
URL:https://www.sillonlz.fr/event/the-toulouse-rocknroll-connection/
LOCATION:Sillon Lauzé\, Le Pont Pessil\, Marvejols\, Lozère\, 48100\, France
CATEGORIES:Concert
ATTACH;FMTTYPE=image/jpeg:https://www.sillonlz.fr/wp-content/uploads/2019/11/2019_11_30-Sillon-Lauzé.jpg
ORGANIZER;CN="Sillon Lauz%C3%A9":MAILTO:contact@sillonLZ.fr
END:VEVENT
END:VCALENDAR