BEGIN:VCALENDAR
VERSION:2.0
PRODID:-//SILLON LAUZÉ - ECPv6.15.20//NONSGML v1.0//EN
CALSCALE:GREGORIAN
METHOD:PUBLISH
X-ORIGINAL-URL:https://www.sillonlz.fr
X-WR-CALDESC:Évènements pour SILLON LAUZÉ
REFRESH-INTERVAL;VALUE=DURATION:PT1H
X-Robots-Tag:noindex
X-PUBLISHED-TTL:PT1H
BEGIN:VTIMEZONE
TZID:Europe/Paris
BEGIN:DAYLIGHT
TZOFFSETFROM:+0100
TZOFFSETTO:+0200
TZNAME:CEST
DTSTART:20180325T010000
END:DAYLIGHT
BEGIN:STANDARD
TZOFFSETFROM:+0200
TZOFFSETTO:+0100
TZNAME:CET
DTSTART:20181028T010000
END:STANDARD
BEGIN:DAYLIGHT
TZOFFSETFROM:+0100
TZOFFSETTO:+0200
TZNAME:CEST
DTSTART:20190331T010000
END:DAYLIGHT
BEGIN:STANDARD
TZOFFSETFROM:+0200
TZOFFSETTO:+0100
TZNAME:CET
DTSTART:20191027T010000
END:STANDARD
BEGIN:DAYLIGHT
TZOFFSETFROM:+0100
TZOFFSETTO:+0200
TZNAME:CEST
DTSTART:20200329T010000
END:DAYLIGHT
BEGIN:STANDARD
TZOFFSETFROM:+0200
TZOFFSETTO:+0100
TZNAME:CET
DTSTART:20201025T010000
END:STANDARD
END:VTIMEZONE
BEGIN:VEVENT
DTSTART;TZID=Europe/Paris:20191005T210000
DTEND;TZID=Europe/Paris:20191005T233000
DTSTAMP:20260420T205117
CREATED:20190922T164700Z
LAST-MODIFIED:20190925T051813Z
UID:5217-1570309200-1570318200@www.sillonlz.fr
SUMMARY:Etienne Manchon Trio (jazz)
DESCRIPTION:Après un mois de Septembre très rock\, ce samedi 05 octobre\, le Sillon Lauzé délaisse les guitares pour accueillir Étienne Manchon Trio\, où piano\, contrebasse et batterie délivrent un jazz aux frontières élastiques\, à l’instar du nom de leur premier album\, sorti le 22 février 2019. \nInfluencé fortement par Pink Floyd qu’il a découvert à l’âge de quinze ans\, le jeune pianiste toulousain Étienne Manchon\, ancien étudiant du CNSM de Paris sacré meilleur instrumentiste 2017 à Jazz à Oloron\, est également inspiré par l’incroyable pianiste et claviériste Jozef Dumoulin\, ainsi que par la bouillonnante scène new-yorkaise. \nExplorant le rythme comme principal terrain de jeu\, Étienne développe en parallèle un sens aiguisé de la mélodie tout en portant une attention particulière au traitement du son. \n \nAprès différentes expériences éclectiques en tant que leader et sideman (Jeff Ballard\, Daniel Humair\, Nicolas Gardel & The Headbangers\, La Recette)\, il monte son trio en 2016 avec deux des musiciens les plus reconnus de la jeune génération : Clément Daldosso à la contrebasse (André Ceccarelli\, Jean-Michel Pilc\, Zoot Collectif) et Théo Moutou (Riccardo Del Fra\, Giovanni Mirabassi) à la batterie. \nLe trio s’est déjà produit massivement en Occitanie : Jazz à Oloron\, Le Taquin\, Chez Lily\, La Candela\, de nombreux concerts chez l’habitant… et désormais au Sillon Lauzé ! \nhttps://soundcloud.com/etienne-manchon \nOuverture à 19h00. (Happy hour jusqu’à 20h30).\nConcert à 21h00. Entrée 5€.  \n(Café associatif oblige\, si c’est votre première visite\, une adhésion\, d’un montant de 10€ pour l’année\, vous sera demandée\, avec un verre offert.)
URL:https://www.sillonlz.fr/event/etienne-manchon-trio-jazz/
LOCATION:Sillon Lauzé\, Le Pont Pessil\, Marvejols\, Lozère\, 48100\, France
CATEGORIES:Concert
ATTACH;FMTTYPE=image/jpeg:https://www.sillonlz.fr/wp-content/uploads/2019/09/Etienne-Manchon_05-10-19_SLZ.jpg
ORGANIZER;CN="Sillon Lauz%C3%A9":MAILTO:contact@sillonLZ.fr
END:VEVENT
BEGIN:VEVENT
DTSTART;TZID=Europe/Paris:20191012T200000
DTEND;TZID=Europe/Paris:20191012T235900
DTSTAMP:20260420T205117
CREATED:20191004T100900Z
LAST-MODIFIED:20191004T100900Z
UID:5247-1570910400-1570924740@www.sillonlz.fr
SUMMARY:Formicables Vintage Party
DESCRIPTION:A partir de 20h00\, samedi 12 octobre\, les Formicables vous invitent à une soirée platines au Sillon Lauzé\, bien évidemment ancrée dans l’univers des années pop 50’s\, 60’s\, 70’s\, suite à leur Assemblée Générale qui aura lieu dans notre café culturel associatif le même jour dès 17h00. \nSi vous souhaitez découvrir ou rejoindre la grande et belle asso qui organise chaque année\nle Marveloz Pop Festival à Marvejols\, c’est l’occasion ou jamais !! \n \nPour clôturer une riche année passée ensemble et se lancer dans de nouvelles aventures\, l’association Les Formicables a donc le plaisir de nous convier à son Assemblée Générale le samedi 12 octobre 2019 à Marvejols à partir de 17h au Sillon Lauzé. \nAu programme : \n\nÉlection partielle du nouveau CA\nBilan moral et financier\nProjets pour la saison 2019-2020\nL’occasion idéale pour adhérer ou renouveler votre adhésion à l’association !\n\nAprès la réunion nous vous invitons à partager un petit moment convivial en mode auberge espagnole en venant avec votre spécialité culinaire préférée et de quoi trinquer à nos futurs projets ! \n 
URL:https://www.sillonlz.fr/event/formicables-vintage-party/
LOCATION:Sillon Lauzé\, Le Pont Pessil\, Marvejols\, Lozère\, 48100\, France
CATEGORIES:Soirée Platines
ATTACH;FMTTYPE=image/jpeg:https://www.sillonlz.fr/wp-content/uploads/2019/10/71534606_2498673873698114_4479902239804096512_n.jpg
END:VEVENT
BEGIN:VEVENT
DTSTART;TZID=Europe/Paris:20191018T210000
DTEND;TZID=Europe/Paris:20191018T233000
DTSTAMP:20260420T205117
CREATED:20190924T165123Z
LAST-MODIFIED:20190925T052018Z
UID:5221-1571432400-1571441400@www.sillonlz.fr
SUMMARY:Denuit (kraut cold électro)
DESCRIPTION:Denuit est un duo électronique rétro-futuriste mêlant des influences krautrock\, coldwave et techno. \nD’un bout à l’autre\, leur set conte une histoire\, et nous plonge à tête renversée dans un univers cinématographique. \nDes volutes vocales embrumées\, flirtant tantôt avec le lyrique tantôt avec les sonorités grave de la cold-wave. Des instruments étranges qui crient et résonnent au dessus d’une vague de synthés psychédéliques. \nUne rythmique déstructurée\, répétitive\, qui amène dans une danse frénétique. Des machines qui soufflent les sonorités sombres et spatiales d’une musique nerveuse mais atmosphérique. \nEn quelques mots\, Denuit est un monde dystopique qu’il faut venir visiter. \nhttps://www.youtube.com/watch?v=382-0287_rQ \nAprès un E.P. autoproduit\, Residency en 2017 et un premier album début 2018 Equinox Lines\, Denuit rejoint le label hapax (*) avec un second album The War of Steel\, et est actuellement en train de finaliser son troisième opus : Oph\, The Lonely Planet\, qui sortira début Novembre 2019. \nhttps://denuit.band/ \nOuverture à 19h00. Happy hour jusqu’à 20h30.\nDébut du concert à 21h00. Entrée 5€ adh. \n(*) le label hapax\, vous le connaissez peut-être déjà\, notamment grâce à Bololipsum qu’on a accueilli en Novembre dernier au Sillon Lauzé… C’est également le label du poulpe électronique LpLpo qu’on a\, lui aussi\, déjà reçu en nos murs à l’époque de La Girafe Ronde… \nhttp://hapax.fr/
URL:https://www.sillonlz.fr/event/denuit-kraut-cold-electro/
LOCATION:Sillon Lauzé\, Le Pont Pessil\, Marvejols\, Lozère\, 48100\, France
CATEGORIES:Concert
ATTACH;FMTTYPE=image/jpeg:https://www.sillonlz.fr/wp-content/uploads/2019/09/Denuit_18-10-19_SLZ.jpg
ORGANIZER;CN="Sillon Lauz%C3%A9":MAILTO:contact@sillonLZ.fr
END:VEVENT
BEGIN:VEVENT
DTSTART;TZID=Europe/Paris:20191019T190000
DTEND;TZID=Europe/Paris:20191019T190000
DTSTAMP:20260420T205117
CREATED:20191007T160320Z
LAST-MODIFIED:20191007T160320Z
UID:5256-1571511600-1571511600@www.sillonlz.fr
SUMMARY:Fiesta d'anniv collective !
DESCRIPTION:Voilà déjà un an que le Sillon Lauzé a rouvert les portes de La Girafe Ronde. Plus de cinquante événements s’y sont passés depuis le 05 octobre 2018\, et ça va continuer de plus belle au cours de cette saison 2019-2020 ! Déjà plein de concerts programmés\, des soirées platines et des scènes ouvertes\, toujours\, mais aussi des spectacles et des stages de théâtre improvisé\, bientôt un nouveau rendez-vous mensuel avec la Récréa’Sillon\, et on espère prochainement ouvrir notre local aux expos ! Quelques bénévoles ont d’ailleurs parlé de tout ça au micro de Ludovic Térol\, de 48FM\, radio associative à Mende sur laquelle nous diffusions notre EmisSillon mensuelle\, à l’occasion de nos “1 an” : \nhttp://48fm.org/les-musicales-de-48fm/les-un-an-du-sillon-lauze/ \nBref\, pour fêter ça dignement tou.te.s ensemble\, et renouveler\, si l’heure en est venue\, nos adhésions au café et au projet\, on vous donne rendez-vous samedi 19 octobre dès 19h00 pour une belle soirée festive et gratuite ! \nOn ne va pas tout vous dévoiler\, mais parmi les réjouissances au programme de la soirée\, sachez que vous pouvez d’ores et déjà : \n1/ réviser vos classiques pour LE GRAND BLIND TEST (qui va sûrement être aussi foutraque que tous ceux qu’on a organisés jusqu’à maintenant !!)\, \n2/ trier vos bacs de disques (vinyles et CD) pour trouver LA chanson (ou track instrumentale..) que vous tenez à partager absolument ce soir-là en venant jouer UN MORCEAU DANS LA BATTLE. Grosse soirée platines participative en perspective !\n(Si vous préférez sélectionner un morceau sur place dans les bacs des bénévoles\, soyez là entre 19h et 20h !) \n3/ prévoir un p’ti quelque chose à grignoter (de préférence avec les doigts) qu’on partagera pour l’apéro\, autour du verre de l’amitié !
URL:https://www.sillonlz.fr/event/fiesta-danniv-collective/
LOCATION:Sillon Lauzé\, Le Pont Pessil\, Marvejols\, Lozère\, 48100\, France
CATEGORIES:Soirée Platines
ATTACH;FMTTYPE=image/jpeg:https://www.sillonlz.fr/wp-content/uploads/2019/10/fiesta_anniv_19-10-19_SLZ.jpg
ORGANIZER;CN="Sillon Lauz%C3%A9":MAILTO:contact@sillonLZ.fr
END:VEVENT
BEGIN:VEVENT
DTSTART;VALUE=DATE:20191021
DTEND;VALUE=DATE:20191025
DTSTAMP:20260420T205117
CREATED:20191009T120433Z
LAST-MODIFIED:20220914T073548Z
UID:5262-1571619600-1571878799@www.sillonlz.fr
SUMMARY:Stage Théâtre Enfants 6-10 ans
DESCRIPTION:Stage de théâtre enfants (6 – 11 ans)\n+ petit spectacle de sortie de stage\nanimé par Amélie Rolland\, metteuse en scène et comédienne improvisatrice. \nFormule 3 jours\nlundi\, mardi : 9h30 – 12h30\nle mercredi : 14h – 17h + spectacle 17h30 – 18h30 \nTarif : 60 €\nContact\, inscription : Amélie 06.63.58.37.29 / compagnie.encyclie@gmail.com \nContenu\nDes exercices ludiques et des expériences de théâtre pour travailler l’écoute\, les techniques de jeu\, la construction d’histoires\, la cohésion de groupe\, l’expression corporelle\, l’expression de son imaginaire … \nAmélie ROLLAND\nComédienne improvisatrice d’abord\, formatrice ensuite\, Amélie est aussi metteuse en scène. Dans le cadre de ses ateliers et stages\, elle travaille auprès de différents publics\, de tous âges\, et monte de nombreux spectacles. Après 33 ans de vie parisienne\, elle part s’installer dans l’Aveyron en 2015. Elle y poursuit sa route théâtrale en axant de plus en plus son travail sur la mise en scène du théâtre improvisé. Elle travaille dans l’Aveyron\, en Lozère\, en région parisienne\, et aussi ailleurs…\nMettre en scène et improviser n’est pas incompatible\, au contraire…\nAmélie travaille dans ce sens : faire émerger la fulgurance\, l’imprévu\, la sincérité dans le jeu improvisé. Transmettre\, partager\, mettre en scène la liberté de jeu\, ce sont les moteurs qu’elle souhaite véhiculer.
URL:https://www.sillonlz.fr/event/stage-theatre-enfants-6-10-ans/
LOCATION:Sillon Lauzé\, Le Pont Pessil\, Marvejols\, Lozère\, 48100\, France
CATEGORIES:Stage,Théâtre d'impro
ATTACH;FMTTYPE=image/jpeg:https://www.sillonlz.fr/wp-content/uploads/2019/10/Photo-stage-enfants.jpg
ORGANIZER;CN="Compagnie Encyclie":MAILTO:compagnie.encyclie@gmail.com
END:VEVENT
BEGIN:VEVENT
DTSTART;TZID=Europe/Paris:20191024T200000
DTEND;TZID=Europe/Paris:20191024T233000
DTSTAMP:20260420T205117
CREATED:20190925T053358Z
LAST-MODIFIED:20191021T123634Z
UID:5236-1571947200-1571959800@www.sillonlz.fr
SUMMARY:Les Mots Sillon d'Octobre
DESCRIPTION:Jeudi 24 octobre\, à 20h\, on prendra\, comme chaque mois\, notre dose de Les Mots Sillon !\n\n\n\nLe principe est toujours le même : viens nous faire profiter de ta dernière production écrite\, d’un texte que tu as aimé\, d’un billet d’humeur\, d’une évocation romancée de la rentrée de ton enfant à la crèche\, d’une ode à l’automne qui s’installe\, d’une improvisation rimée sur l’art de sécher les champignons… C’est toi qui vois.\n\n\n\nTu peux aussi venir pour soutenir les copines et les copains qui lisent. You’re welcome\, comme dirait l’autre. \n\n\n\nAlors à jeudi 20h00 ! (Ouverture des portes à 19h00\, happy hour jusqu’à 20h30)\n\n\n\n(Gratuit pour les adhérent.e.s. Droit d’entrée à l’année 10€ pour les non-adhérent.e.s\, avec un verre offert.)
URL:https://www.sillonlz.fr/event/les-mots-sillon-doctobre/
LOCATION:Sillon Lauzé\, Le Pont Pessil\, Marvejols\, Lozère\, 48100\, France
CATEGORIES:Scène Ouverte
ATTACH;FMTTYPE=image/jpeg:https://www.sillonlz.fr/wp-content/uploads/2019/09/LesMotsSillon_24-10-19_SLZ.jpg
ORGANIZER;CN="Sillon Lauz%C3%A9":MAILTO:contact@sillonLZ.fr
END:VEVENT
BEGIN:VEVENT
DTSTART;TZID=Europe/Paris:20191029T190000
DTEND;TZID=Europe/Paris:20191029T190000
DTSTAMP:20260420T205117
CREATED:20191014T143521Z
LAST-MODIFIED:20191023T113956Z
UID:5266-1572375600-1572375600@www.sillonlz.fr
SUMMARY:Rencontre avec Rimojeki - résidence artistique collaborative
DESCRIPTION:En prévision de la résidence du duo d’artistes Rimojeki\, qui sera avec nous pendant la seconde semaine des vacances d’automne pour préparer une création collaborative qui sera présentée lors du concert du samedi 02 novembre\, le Sillon Lauzé vous invite à venir rencontrer Rimoch Kfir et Jacky Zaborov\, deux reptiles extra-terrestres athéistes venu.e.s de la planète Nibiru\, dès leur arrivée à Marvejols mardi 29 octobre en début de soirée. \nArtistes confirmé.e.s ou amateurs\, plasticien.ne.s\, danseuses et danseurs\, vidéastes\, musicien.ne.s\, décoratrices et décorateurs\, venez vous joindre à ce qui s’annonce d’ores et déjà comme un joyeux capharnaüm ! \nL’idée est de créer une cérémonie païenne pour accompagner leur concert\, une grande fête collaborative\, sous les auspices d’un folklore extra-terrestre\, d’une créativité libératrice\, et de l’amour\, bien sûr ! \n \nPour découvrir davantage leur univers\, bien fou comme on les aime\, qu’ils décrivent comme un mélange Space Art / Elect’Rock / Future-Trash\, rendez-vous sur https://www.rimojeki.com/ \nSi vous êtes intéressé.e.s pour participer à la création collective qui sera présentée le samedi 02 novembre\, n’hésitez pas à jeter un coup d’œil à la vidéo suivante\, souvenir de leur passage en Allemagne il y a quelques mois\, où ils ont proposé de la même manière un temps de travail artistique collaboratif avec les personnes motivées sur place : \nhttps://www.facebook.com/rimoch1/videos/10157370174968252/ \n 
URL:https://www.sillonlz.fr/event/rencontre-avec-rimojeki-residence-artistique-collaborative/
LOCATION:Sillon Lauzé\, Le Pont Pessil\, Marvejols\, Lozère\, 48100\, France
CATEGORIES:Atelier,Rencontre
ATTACH;FMTTYPE=image/jpeg:https://www.sillonlz.fr/wp-content/uploads/2019/10/rimojeki_residency.jpg
ORGANIZER;CN="Sillon Lauz%C3%A9":MAILTO:contact@sillonLZ.fr
END:VEVENT
END:VCALENDAR