BEGIN:VCALENDAR
VERSION:2.0
PRODID:-//SILLON LAUZÉ - ECPv6.15.20//NONSGML v1.0//EN
CALSCALE:GREGORIAN
METHOD:PUBLISH
X-ORIGINAL-URL:https://www.sillonlz.fr
X-WR-CALDESC:Évènements pour SILLON LAUZÉ
REFRESH-INTERVAL;VALUE=DURATION:PT1H
X-Robots-Tag:noindex
X-PUBLISHED-TTL:PT1H
BEGIN:VTIMEZONE
TZID:Europe/Paris
BEGIN:DAYLIGHT
TZOFFSETFROM:+0100
TZOFFSETTO:+0200
TZNAME:CEST
DTSTART:20180325T010000
END:DAYLIGHT
BEGIN:STANDARD
TZOFFSETFROM:+0200
TZOFFSETTO:+0100
TZNAME:CET
DTSTART:20181028T010000
END:STANDARD
BEGIN:DAYLIGHT
TZOFFSETFROM:+0100
TZOFFSETTO:+0200
TZNAME:CEST
DTSTART:20190331T010000
END:DAYLIGHT
BEGIN:STANDARD
TZOFFSETFROM:+0200
TZOFFSETTO:+0100
TZNAME:CET
DTSTART:20191027T010000
END:STANDARD
BEGIN:DAYLIGHT
TZOFFSETFROM:+0100
TZOFFSETTO:+0200
TZNAME:CEST
DTSTART:20200329T010000
END:DAYLIGHT
BEGIN:STANDARD
TZOFFSETFROM:+0200
TZOFFSETTO:+0100
TZNAME:CET
DTSTART:20201025T010000
END:STANDARD
END:VTIMEZONE
BEGIN:VEVENT
DTSTART;TZID=Europe/Paris:20190607T210000
DTEND;TZID=Europe/Paris:20190607T210000
DTSTAMP:20260421T034614
CREATED:20190530T001729Z
LAST-MODIFIED:20220914T073841Z
UID:5053-1559941200-1559941200@www.sillonlz.fr
SUMMARY:Mecavolic (Electro Pop)
DESCRIPTION:Mecavolic nous emmène en voyage ce vendredi 7 juin\, à travers mille et une contrées aux sonorités pop\, électro\, organiques… où guitare et percus sont mâtinées de beatbox et soutenues par les vibrations profondes du ragga. Depuis l’orée des steppes murmurantes jusqu’à la piste de danse du Sillon Lauzé\, Mecavolic nous prend par la main\, pour nous emmener loin\, mais sans jamais nous perdre dans ce rêve éveillé. \n \nhttps://www.youtube.com/watch?v=HDKtITm_c18 \nOuverture à 19h00. Concert à 21h00.\nHappy hour de 19h00 à 20h30.\nEntrée 5€ pour les adhérent.e.s.\n(10€ avec l’adhésion pour un an).
URL:https://www.sillonlz.fr/event/mecavolic-electro-pop/
LOCATION:Sillon Lauzé\, Le Pont Pessil\, Marvejols\, Lozère\, 48100\, France
CATEGORIES:Concert
ATTACH;FMTTYPE=image/jpeg:https://www.sillonlz.fr/wp-content/uploads/2019/05/mecavolic_SLZ_07-06-19-1.jpg
ORGANIZER;CN="Sillon Lauz%C3%A9":MAILTO:contact@sillonLZ.fr
END:VEVENT
BEGIN:VEVENT
DTSTART;TZID=Europe/Paris:20190620T200000
DTEND;TZID=Europe/Paris:20190620T210000
DTSTAMP:20260421T034614
CREATED:20190529T233231Z
LAST-MODIFIED:20190615T153311Z
UID:5055-1561060800-1561064400@www.sillonlz.fr
SUMMARY:Les Mots Sillons de Juin
DESCRIPTION:Notre rendez-vous mensuel avec les jolis mots\, les mots de la vie\, les mots de là-haut\, c’est Jeudi 20 Juin ! Venez nombreux en dire un\, en dire deux\, en dire trois pourquoi pas ? \nLes mots doux\, les mots bleus\, les Mots Sillon… Quoi de mieux\, avant d’aller vous faire écorcher les cages à miel à la fête de la musique\, qu’une petite scène ouverte au Sillon Lauzé ? \nNos susurrations seront soie et miel à vos oreilles en cette veille de solstice.\nBien entendu toi aussi tu peux venir susurrer ta dernière création\, ton dernier coup de cœur\, le texte d’une chanson qui te fait du bien\, le notre père\, le votre mère\, l’annuaire téléphonique de Reykjavík\, ta recette des rillettes au croupion de chèvre\, la non déclaration d’impôts de M. Balkany\,une notice Ikéa; et bien d’autres choses…\nL’ami Ronan le Lunatique et ses apprentis rimeurs de la prose seront là avec quelques germes de lis tes ratures.\nAlors que ce soit pour dire ou pour écouter\, tu es le bienvenu au Sillon Lauzé\, le jeudi 20 juin\, à 20h. Car c’est les Mots Sillons. \nOuverture à 19h00. Happy hour de 19h à 20h30.\nGratuit pour les adhérent.e.s (10€ pour l’adhésion annuelle avec un verre offert). \n(illustration “Blablabla” par Sofia Varela sous licence creative commons)
URL:https://www.sillonlz.fr/event/les-mots-sillons-de-juin/
LOCATION:Sillon Lauzé\, Le Pont Pessil\, Marvejols\, Lozère\, 48100\, France
CATEGORIES:Scène Ouverte
ATTACH;FMTTYPE=image/jpeg:https://www.sillonlz.fr/wp-content/uploads/2019/05/LesMotsSillons_SLZ_20-06-19.jpg
ORGANIZER;CN="Sillon Lauz%C3%A9":MAILTO:contact@sillonLZ.fr
END:VEVENT
BEGIN:VEVENT
DTSTART;TZID=Europe/Paris:20190622T140000
DTEND;TZID=Europe/Paris:20190623T010000
DTSTAMP:20260421T034614
CREATED:20190610T131644Z
LAST-MODIFIED:20190619T073650Z
UID:5057-1561212000-1561251600@www.sillonlz.fr
SUMMARY:AMIZIKÉ : Fête de l'Amitié\, de la Musique et de l'Été !
DESCRIPTION:La grande Fête de l’Amiziké\, c’est samedi 22/06 au Sillon Lauzé\, dès 14h00\, avec une foire aux disques d’occasion\, ainsi qu’une buvette avec petite restauration en journée sur la terrasse du café.  \nVenez nombreuses\, et nombreux\, en famille ou entre ami.e.s. Pour l’occasion\, l’événement sera ouvert à tou.te.s : adhérent.e.s et non adhérent.e.s de l’association ! \nOn accueillera en prime un concert exceptionnel du groupe YAMANTAKA // SONIC TITAN samedi soir au beau milieu des festivités de notre fête de l’Amiziké !! \nYAMANTAKA // SONIC TITAN est un groupe canadien originellement formé à Montréal au début des années 2010 et aujourd’hui établi à Toronto. Proclamant faire de la « Noh-Wave » – amalgame du courant new-yorkais No Wave et du théâtre japonais Noh (Nô\, en français) – la musique de cette entité à six têtes se démarque par une hybridation virtuose d’influences culturelles et musicales. Misant sur une forte signature visuelle\, le groupe sait créer un effet saisissant par son recours à des maquillages et par l’aspect théâtral de ses prestations époustouflantes. C’est toutefois par le talent remarquable de ses musiciens et la qualité de ses compositions que la formation arrive à conquérir un public sans cesse grandissant. Un groupe qui se réinvente à chaque album et qui compte parmi les plus fascinants à voir évoluer. \n \n\nYAMANTAKA // SONIC TITAN s’est donné pour mission de créer des ponts entre les nouveaux et anciens mondes\, des cultures ancestrales et inventées\, sur une autre planète et ici même\, puisque la découverte de l’Autre semble toujours aussi difficile en ces temps où le durcissement identitaire semble avoir un certain ascendant sur les humains en quête de racines utopiques. Par sa diversité et son éclectisme assumé\, le groupe fait voler en éclat toute tentative de catégorisation ou de confinement dans quelque petite case que ce soit\, en y ajoutant une dose non contenue d’énergie titanesque. \nUn événement-monument à ne rater sous aucun prétexte !!! \n\nToutes ces réjouissances continueront comme d’habitude jusqu’à 01h0 du matin. Bref\, une belle soirée pleine de surprises\, en perspective\, dans la bonne humeur et la convivialité\, qui nous permettra de célébrer ensemble non seulement la musique\, mais aussi l’arrivée de l’été\, et les valeurs que La Girafe Ronde a transmises au Sillon Lauzé : le respect\, l’entraide\, et l’amitié. \nDès 14h00. Entrée gratuite !
URL:https://www.sillonlz.fr/event/amizike-fete-22juin2019/
LOCATION:Sillon Lauzé\, Le Pont Pessil\, Marvejols\, Lozère\, 48100\, France
CATEGORIES:Concert,Soirée Platines
ATTACH;FMTTYPE=image/jpeg:https://www.sillonlz.fr/wp-content/uploads/2019/06/amizike_yamantaka_SLZ_22-06-19.jpg
ORGANIZER;CN="Sillon Lauz%C3%A9":MAILTO:contact@sillonLZ.fr
END:VEVENT
END:VCALENDAR