BEGIN:VCALENDAR
VERSION:2.0
PRODID:-//SILLON LAUZÉ - ECPv6.15.20//NONSGML v1.0//EN
CALSCALE:GREGORIAN
METHOD:PUBLISH
X-WR-CALNAME:SILLON LAUZÉ
X-ORIGINAL-URL:https://www.sillonlz.fr
X-WR-CALDESC:Évènements pour SILLON LAUZÉ
REFRESH-INTERVAL;VALUE=DURATION:PT1H
X-Robots-Tag:noindex
X-PUBLISHED-TTL:PT1H
BEGIN:VTIMEZONE
TZID:Europe/Paris
BEGIN:DAYLIGHT
TZOFFSETFROM:+0100
TZOFFSETTO:+0200
TZNAME:CEST
DTSTART:20180325T010000
END:DAYLIGHT
BEGIN:STANDARD
TZOFFSETFROM:+0200
TZOFFSETTO:+0100
TZNAME:CET
DTSTART:20181028T010000
END:STANDARD
BEGIN:DAYLIGHT
TZOFFSETFROM:+0100
TZOFFSETTO:+0200
TZNAME:CEST
DTSTART:20190331T010000
END:DAYLIGHT
BEGIN:STANDARD
TZOFFSETFROM:+0200
TZOFFSETTO:+0100
TZNAME:CET
DTSTART:20191027T010000
END:STANDARD
BEGIN:DAYLIGHT
TZOFFSETFROM:+0100
TZOFFSETTO:+0200
TZNAME:CEST
DTSTART:20200329T010000
END:DAYLIGHT
BEGIN:STANDARD
TZOFFSETFROM:+0200
TZOFFSETTO:+0100
TZNAME:CET
DTSTART:20201025T010000
END:STANDARD
END:VTIMEZONE
BEGIN:VEVENT
DTSTART;TZID=Europe/Paris:20190503T203000
DTEND;TZID=Europe/Paris:20190503T203000
DTSTAMP:20260421T053419
CREATED:20190416T234346Z
LAST-MODIFIED:20190416T234903Z
UID:4966-1556915400-1556915400@www.sillonlz.fr
SUMMARY:AUTRE PART (expérience cinématographique)
DESCRIPTION:Jamais nous n’avons autant voyagé.  \nIl semble pourtant qu’à mesure que la durée des trajets se réduit\, nous perdons notre capacité à ressentir le mouvement. Mais lorsqu’on se laisse aller au transit le temps semble se distordre\, et avec lui la cadence de nos pensées. La contemplation nous plonge dans un état proche de l’hypnose d’où peut surgir l’inspiration. \n \nOuananiche* nous propose non seulement de réfléchir aux bienfaits des déplacements physiques sur notre santé mentale\, notre imagination et notre identité\, mais véritablement de revivre ces sensations le temps d’une expérience cinématographique puissante et insolite. \nMêlant musique électronique\, Vjing et cinéma documentaire\, AUTRE PART est un voyage polyphonique et universel : les récits d’immigrants\, de pèlerins\, d’explorateurs\, de simples promeneurs ou de sportifs nous plongent dans cet instant particulier entre le point de départ et la destination\, où un déclic se produit en nous. Aux frontières du cinéma\, de l’art vidéo et du concert\, AUTRE PART exalte paisiblement en nous une soif d’introspection\, de découverte du monde et de soi-même. \nOuverture des portes à 19h00.\nProjection à 20h30 (durée 65 min)\, suivie d’une rencontre avec le réalisateur\, Cédric Chabuel (Ouananiche) en vidéo live de Montréal à Marvejols ! \nEntrée gratuite pour les adhérent.e.s.\nAdhésion annuelle : 10€ (avec un verre offert). \n\n* La Ouananiche est un poisson qui nage à contre-courant. Sous les écailles se cache Cédric Chabuel\, artiste audiovisuel basé à Montréal (Québec\, Canada). Remarqué par son documentaire L’Odyssée du Sample en 2001\, Cédric Chabuel devient un acteur important de la scène underground techno. En 2003 il devient Ouananiche\, VJ reconnu pour ses vidéos originales et narratives\, qu’il mixe en improvisation dans des concerts électro\, jazz\, rock\, world ainsi que pour des prestations théâtrales. \nAujourd’hui Ouananiche concocte des performances audiovisuelles où la musique et les images sont intrinsèquement liées\, indissociables. Avec ses remixes de films comme Next Floor Remix\, ou Manifestes en Remix\, il développe un concept d’écologie artistique et milite pour le développement de licences alternatives telles que Creative Commons. Avec des projets comme Autre Part\, il crée la rencontre entre l’art numérique et le documentaire d’auteur. Toujours là où on ne l’attend pas\, Cédric Chabuel cherche ces brèches où les codes artistiques se heurtent\, espaces inhabituels où le spectateur et l’artiste doivent apprendre un nouvel équilibre. Parce que Seuls les poissons morts suivent le courant…
URL:https://www.sillonlz.fr/event/autre-part/
LOCATION:Sillon Lauzé\, Le Pont Pessil\, Marvejols\, Lozère\, 48100\, France
CATEGORIES:Projection
ATTACH;FMTTYPE=image/jpeg:https://www.sillonlz.fr/wp-content/uploads/2019/04/autre-part_SLZ_03-05-19.jpg
ORGANIZER;CN="Sillon Lauz%C3%A9":MAILTO:contact@sillonLZ.fr
END:VEVENT
BEGIN:VEVENT
DTSTART;TZID=Europe/Paris:20190504T190000
DTEND;TZID=Europe/Paris:20190504T190000
DTSTAMP:20260421T053419
CREATED:20190428T203049Z
LAST-MODIFIED:20190428T211952Z
UID:4979-1556996400-1556996400@www.sillonlz.fr
SUMMARY:Soirée Bipolaire #2 (Electro Tribe Techno)
DESCRIPTION:Venez vibrer aux sons des lourdes basses des mixes et lives électro\, techno et tribe\, ce samedi 04 mai au Sillon Lauzé\, l’asso café cult’ de Marvejols. \nCC Kovax\, le freepon\, notre chevalier des arts et lettres techno local\, invite Glower\, Tartuf et Pep\, a.k.a [Lé Zéveillés] à venir réveiller le Pont Pessil\, et avant tout partager la musique qu’ils aiment\, accompagnés par les visuels live de eM Tv\, samplés et remixés à partir d’images issues des archives libres du patrimoine vidéo mondial. \nMise en jambes par Lagadou avec un mix électro d’apéro parfait pour profiter de l’happy hour dans la bonne humeur… \n  \n \n(Pour découvrir le style musical de Glower et Lé Zéveillés\, rdv à partir de 1’45 après l’intro pour tous les enfants de la Terre !) \nOuverture à 19h.\nHappy Hour de 19h à 20h30. \nPAF 5€ adhérent.e.s\nou 10€ avec l’adhésion annuelle (individuelle et nécessaire\, statut associatif oblige !)
URL:https://www.sillonlz.fr/event/soiree-bipolaire-nord-sud-electro-tribe-techno/
LOCATION:Sillon Lauzé\, Le Pont Pessil\, Marvejols\, Lozère\, 48100\, France
CATEGORIES:Concert,Soirée Platines
ATTACH;FMTTYPE=image/jpeg:https://www.sillonlz.fr/wp-content/uploads/2019/04/Bipolaire_2_SLZ_04-05-19.jpg
ORGANIZER;CN="Sillon Lauz%C3%A9":MAILTO:contact@sillonLZ.fr
END:VEVENT
BEGIN:VEVENT
DTSTART;TZID=Europe/Paris:20190510T213000
DTEND;TZID=Europe/Paris:20190510T213000
DTSTAMP:20260421T053419
CREATED:20190428T215153Z
LAST-MODIFIED:20190428T225518Z
UID:4990-1557523800-1557523800@www.sillonlz.fr
SUMMARY:Coffee Or Not (Pop Rock Indé)
DESCRIPTION:Le duo belge Coffee Or Not nous fait le plaisir de revenir jouer au Sillon Lauzé\, après un passage plus que remarqué à La Girafe Ronde il y a trois ans. L’occasion de nous dire si le nouveau parquet est plus ou moins confortable que l’ancien ?! \n \nBlague à part\, vous reprendrez bien un peu de café ? Dans le cas de Soho Grant et Renaud Versteegen\, la question se pose en général tard le soir\, au moment où les deux musicien.ne.s\, duo à la ville comme à la scène\, commencent à composer. Et cela peut durer tard dans la nuit. Alors\, Coffee Or Not ? Un café de plus pour continuer à composer\, ou vaut-il mieux aller dormir ? \nSoho et Renaud se sont rencontrés il y a une dizaine d’années maintenant\, lors des Soirées Cerise\, en Belgique\, chacun officiant au sein de son propre groupe\, elle au clavier et au chant\, et lui à la batterie. Comme le courant passe bien entre eux\, ils décident de se revoir. Renaud devient le batteur de Soho\, puis\, très rapidement\, ils se mettent à composer des morceaux ensemble. \nLeur 5ème album\, Hidden Floor\, sorti au mois d’Octobre dernier\, est disponible en écoute et téléchargement (comme leurs précédents opus) sur Bandcamp. \nhttp://www.coffeeornot.be/ \nOuverture à 19h. Happy Hour de 19h à 20h30. Concert à 21h30.\n5€ ou 10€ avec l’adhésion annuelle (entrée offerte dans ce cas !)
URL:https://www.sillonlz.fr/event/coffee-or-not-trip-hop/
LOCATION:Sillon Lauzé\, Le Pont Pessil\, Marvejols\, Lozère\, 48100\, France
CATEGORIES:Concert
ATTACH;FMTTYPE=image/jpeg:https://www.sillonlz.fr/wp-content/uploads/2019/04/coffee_or_not_SLZ_10-05-19.jpg
ORGANIZER;CN="Sillon Lauz%C3%A9":MAILTO:contact@sillonLZ.fr
END:VEVENT
BEGIN:VEVENT
DTSTART;TZID=Europe/Paris:20190518T210000
DTEND;TZID=Europe/Paris:20190518T210000
DTSTAMP:20260421T053419
CREATED:20190507T190159Z
LAST-MODIFIED:20190509T162335Z
UID:5004-1558213200-1558213200@www.sillonlz.fr
SUMMARY:Mr R. + Bob Cooper (post-rock)
DESCRIPTION:Mr R. est un super-héros. \nInspiré par la scène post-rock (Mogwai // Godspeed You ! Black Emperor // Explosions in the Sky) tout autant que par la scène rock-progressif / psyché (Pink Floyd // Radiohead // Suuns) le groupe propose un set qui allie plages instrumentales\, vidéos et textes. \n\nhttps://www.youtube.com/watch?v=mCavIFS4etA \nLe premier album de Mr R.\, sobrement intitulé // est sorti le 20 mars 2019\, dans un digisleeve de toute beauté réalisé avec des œuvres originales de Eric Benedet. \nVous pouvez le découvrir en écoute sur\nhttp://www.mr-r.fr ou sur\nhttps://mrrmusic1.bandcamp.com/releases \nBob Cooper\, aka Julien Laroche\, quant à lui\, pourrait être décrit comme un homme orchestre version 2.0 qui malaxe les genres en confrontant ses guitares et ses basses à des rythmes électroniques alambiqués. \nMétamorphosant ces éléments sonores dans les réseaux tortueux d’un éco-système d’effets\, il ré-orchestre l’ensemble pour en tirer des incantations sonores organiques\, accidentées et envoûtées à l’aide d’un capteur de mouvements\, sorte de theremin du futur au-dessus duquel ses mains dansent et pratiquent un chamanisme numérique. \n \nhttps://soundcloud.com/bobcooper \nOuverture à 19h avec Happy Hour jusqu’à 20h30.\nDébut des concerts à 21h. \n5€ ou 10€ avec l’adhésion annuelle.
URL:https://www.sillonlz.fr/event/mr-r-bob-cooper-post-rock/
LOCATION:Sillon Lauzé\, Le Pont Pessil\, Marvejols\, Lozère\, 48100\, France
CATEGORIES:Concert
ATTACH;FMTTYPE=image/jpeg:https://www.sillonlz.fr/wp-content/uploads/2019/05/mrR_BobCooper_SLZ_18-05-19.jpg
ORGANIZER;CN="Sillon Lauz%C3%A9":MAILTO:contact@sillonLZ.fr
END:VEVENT
BEGIN:VEVENT
DTSTART;TZID=Europe/Paris:20190523T200000
DTEND;TZID=Europe/Paris:20190523T200000
DTSTAMP:20260421T053419
CREATED:20190514T200510Z
LAST-MODIFIED:20190514T200635Z
UID:5012-1558641600-1558641600@www.sillonlz.fr
SUMMARY:Les Mots Sillon du mois de Mai
DESCRIPTION:Les Mots Sillon : le rendez-vous incontournable des ami.e.s de la prose\, de la rime\, de la frime\, du grand frisson pour pas cher\, du bon mot\, du vent mauvais comme le dit si bien Verlaine…J’en passe et des meilleures. \n\nTout ça pour vous dire que jeudi 23 mai tu es attendu.e au Sillon Lauzé pour nous faire entendre une poignée de mots qui te touchent\, t’amusent ou t’émeuvent (forcément\, Les Mots Sillons…). \n\nTu les as écrits\, tu les as découvert au coin d’un bouquin\, tu les improvises en direct… C’est scène ouverte\, alors profites-en. Si tu es un peu timidou\, ou qu’il te faut un peu de temps pour te lancer\, ce n’est pas grave. Viens avec tes oreilles\, vous êtes les bienvenus. \n\nA jeudi 23 mai\, 20h au Sillon Lauzé pour Les Mots Sillons du mois de mai.
URL:https://www.sillonlz.fr/event/les-mots-sillon-du-mois-de-mai/
LOCATION:Sillon Lauzé\, Le Pont Pessil\, Marvejols\, Lozère\, 48100\, France
CATEGORIES:Scène Ouverte
ATTACH;FMTTYPE=image/jpeg:https://www.sillonlz.fr/wp-content/uploads/2019/05/LMS_SLZ_23-05-19.jpg
ORGANIZER;CN="Sillon Lauz%C3%A9":MAILTO:contact@sillonLZ.fr
END:VEVENT
BEGIN:VEVENT
DTSTART;TZID=Europe/Paris:20190524T210000
DTEND;TZID=Europe/Paris:20190524T210000
DTSTAMP:20260421T053419
CREATED:20190520T190707Z
LAST-MODIFIED:20190524T151304Z
UID:5044-1558731600-1558731600@www.sillonlz.fr
SUMMARY:Unions Libres
DESCRIPTION:Amélie Rolland et Florent Gardères reviennent nous faire vivre de nouvelles Unions Libres ce vendredi 24 Mai au Sillon Lauzé… selon leur inspiration et celle du public mais aussi de DJ Oreil qui jouera en direct la bande originale de ce spectacle d’impro ! \nAu programme\, dès 21h00\, une succession de saynètes autour de la vie à deux\, en format court\, au cours desquelles les deux comédien.ne.s se laisseront surprendre par nos proposi’sillons thématiques et contextuelles\, par un mot\, par une phrase ou par un morceau musical\, pour nous faire rire ou nous émouvoir au fil de leurs histoires…  \n\nBref ! Soyez là ! \nAmélie Rolland en parle très bien\, ainsi que du théâtre d’improvisation en général\, dans l’EmisSillon du mois de Mai\, diffusée lundi 20 Mai à 21h\, à écouter ou ré-écouter dans les Musicales de 48FM et sur notre page L’EmisSillon : Sillon Lauzé sur 48FM. \nOuverture à 19h00 pour l’Happy Hour. \nDébut du spectacle à 21h00.\nParticipation au chapeau. Youpi. Merci.
URL:https://www.sillonlz.fr/event/unions-libres/
LOCATION:Sillon Lauzé\, Le Pont Pessil\, Marvejols\, Lozère\, 48100\, France
CATEGORIES:Théâtre d'impro
ATTACH;FMTTYPE=image/jpeg:https://www.sillonlz.fr/wp-content/uploads/2019/05/unions_libres_SLZ_24-05-19.jpg
ORGANIZER;CN="Sillon Lauz%C3%A9":MAILTO:contact@sillonLZ.fr
END:VEVENT
BEGIN:VEVENT
DTSTART;TZID=Europe/Paris:20190525T190000
DTEND;TZID=Europe/Paris:20190525T190000
DTSTAMP:20260421T053419
CREATED:20190524T152425Z
LAST-MODIFIED:20190524T163108Z
UID:5048-1558810800-1558810800@www.sillonlz.fr
SUMMARY:Soirée Platines des Sillonné.e.s de la Lauze
DESCRIPTION:On finira bien le week-end\, ce samedi 25 Mai\, avec une soirée platines concoctée par et pour les bénévoles du Sillon Lauzé\, à laquelle vous êtes bien entendu toutes et tous convié.e.s !! \nSillon Dansé sur des sonorités acoustiques\, électriques\, électroniques – bref à l’image des bénévoles Sillonné.e.s de la Lauze : complètement éclectiques mais toujours sympathiques ! \nOuverture à 19h00. Happy Hour jusqu’à 20h30. \nGratuit pour tou.te.s les adhérent.e.s.\n(Adhésion annuelle 10€ avec un verre offert.)
URL:https://www.sillonlz.fr/event/soiree-platines-des-sillonne-e-s-de-la-lauze/
LOCATION:Sillon Lauzé\, Le Pont Pessil\, Marvejols\, Lozère\, 48100\, France
CATEGORIES:Soirée Platines
ATTACH;FMTTYPE=image/jpeg:https://www.sillonlz.fr/wp-content/uploads/2019/05/sillonnees_de_la_lauze_25-05_SLZ.jpg
ORGANIZER;CN="Sillon Lauz%C3%A9":MAILTO:contact@sillonLZ.fr
END:VEVENT
END:VCALENDAR