BEGIN:VCALENDAR
VERSION:2.0
PRODID:-//SILLON LAUZÉ - ECPv6.15.20//NONSGML v1.0//EN
CALSCALE:GREGORIAN
METHOD:PUBLISH
X-ORIGINAL-URL:https://www.sillonlz.fr
X-WR-CALDESC:Évènements pour SILLON LAUZÉ
REFRESH-INTERVAL;VALUE=DURATION:PT1H
X-Robots-Tag:noindex
X-PUBLISHED-TTL:PT1H
BEGIN:VTIMEZONE
TZID:Europe/Paris
BEGIN:DAYLIGHT
TZOFFSETFROM:+0100
TZOFFSETTO:+0200
TZNAME:CEST
DTSTART:20180325T010000
END:DAYLIGHT
BEGIN:STANDARD
TZOFFSETFROM:+0200
TZOFFSETTO:+0100
TZNAME:CET
DTSTART:20181028T010000
END:STANDARD
BEGIN:DAYLIGHT
TZOFFSETFROM:+0100
TZOFFSETTO:+0200
TZNAME:CEST
DTSTART:20190331T010000
END:DAYLIGHT
BEGIN:STANDARD
TZOFFSETFROM:+0200
TZOFFSETTO:+0100
TZNAME:CET
DTSTART:20191027T010000
END:STANDARD
BEGIN:DAYLIGHT
TZOFFSETFROM:+0100
TZOFFSETTO:+0200
TZNAME:CEST
DTSTART:20200329T010000
END:DAYLIGHT
BEGIN:STANDARD
TZOFFSETFROM:+0200
TZOFFSETTO:+0100
TZNAME:CET
DTSTART:20201025T010000
END:STANDARD
END:VTIMEZONE
BEGIN:VEVENT
DTSTART;TZID=Europe/Paris:20190301T210000
DTEND;TZID=Europe/Paris:20190301T210000
DTSTAMP:20260421T092857
CREATED:20190218T213634Z
LAST-MODIFIED:20190225T224202Z
UID:4705-1551474000-1551474000@www.sillonlz.fr
SUMMARY:Zetor In The Kailyard (folk celtique - UK)
DESCRIPTION:La Saint Patrick aura lieu un peu en avance au Sillon Lauzé cette année ! \nEn effet\, nous avons le plaisir de recevoir ce vendredi 1er Mars Zetor in the Kailyard pour un concert folk avec tous les ingrédients traditionnels de cette musique telle qu’elle est pratiquée en Grande Bretagne : violon\, cornemuse\, guitare\, flûte traversière… \n…mais nous aurons aussi le plaisir de découvrir d’autres épices dans la recette de Kate Badcock et Roddy Johnston\, tels qu’un cajón\, un saxo\, une pédale sampler\, etc\, qui lui donnent une saveur unique\, imprégnée d’autres horizons que les seules plaines verdoyantes de notre bien-aimée perfide Albion… \n \nOuverture des portes à 19h00. Concert à 21h00.\nTarif 5€ (ou adhésion annuelle 10€ avec entrée offerte)
URL:https://www.sillonlz.fr/event/zetor-in-the-kailyard-folk-celtique-uk/
LOCATION:Sillon Lauzé\, Le Pont Pessil\, Marvejols\, Lozère\, 48100\, France
CATEGORIES:Concert
ATTACH;FMTTYPE=image/jpeg:https://www.sillonlz.fr/wp-content/uploads/2019/02/ZITK_sillonLZ_01-03-19.jpg
END:VEVENT
BEGIN:VEVENT
DTSTART;TZID=Europe/Paris:20190302T210000
DTEND;TZID=Europe/Paris:20190302T210000
DTSTAMP:20260421T092857
CREATED:20190225T091720Z
LAST-MODIFIED:20190225T215024Z
UID:4720-1551560400-1551560400@www.sillonlz.fr
SUMMARY:Filade / Edinburgh of the 7 Seas / Donan Rodus
DESCRIPTION:Notre plat de résistance de ce samedi 02 mars au soir\, Filade\, aurait pu s’appeler Brûlure Indienne\, Métiers de Bouche ou encore Enquête de Voisinage… \nLes deux compères — Gaël (Malhabile\, ex-Sobornost)\, et Flo (Edinburgh of the Seven Seas\, ex-Mudbath) — qui composent Filade\, eux\, préfèrent la bagarre sur ponton de marina et balancent un bon math/rock ensoleillé\, influencé par des groupes comme Cleft\, Francky Goes to Pointe-à-Pître\, Adebisi Shank… \nCroc-en-jambe musical alliant riffs effrénés\, cavalcades de toms bien cognés\, accords scintillants et rythmiques chaloupées\, Filade compte bien fendre la foule de son rock de plage très costaud. \nOn espère d’ailleurs qu’il leur restera un peu de merch’ après leurs dates en Suisse\, à Clermont\, à Paris\, parce qu’on voudrait bien pouvoir s’offrir leur EP collector en K7 audio :\nLE RYTHME FATAL\, sorti le 15 Janvier 2019 :\nhttps://filade.bandcamp.com/releases/ \nBref\, déjà un beau programme\, mais ce n’est pas tout car on suivra également ce soir-là avec délectation les trajectoires ambient / post rock du projet solo du guitariste\, Edinburgh of the Seven Seas :\nhttps://edinburghofthesevenseas.bandcamp.com/album/live-at-pandora \nEt en mise en bouche ou en dessert\, ou les deux\, qui sait\, l’insatiable Seb Dodus nous proposera Donan Rodus\, une nouvelle formation locale\, en duo ou trio\, dans laquelle le batteur lozérien convoque des improvisations free jazz à l’aide d’un flûtiste de talent\, que nous avons déjà eu le plaisir d’accueillir lors de la soirée de ré-ouverture du Sillon Lauzé… \nOuverture à 19h. Concerts à 21h. VENEZ TÔT !\n5€ (adh.) / 10€ entrée+adhésion annuelle (obligatoire)\nau Sillon Lauzé\, cadre associatif oblige ! Merci !!
URL:https://www.sillonlz.fr/event/filade-edinburgh-of-the-7-seas-donan-rodus/
LOCATION:Sillon Lauzé\, Le Pont Pessil\, Marvejols\, Lozère\, 48100\, France
ATTACH;FMTTYPE=image/jpeg:https://www.sillonlz.fr/wp-content/uploads/2019/02/Filade_DonanRodus_7SeassillonLZ_02-03-19.jpg
END:VEVENT
BEGIN:VEVENT
DTSTART;TZID=Europe/Paris:20190308T210000
DTEND;TZID=Europe/Paris:20190308T210000
DTSTAMP:20260421T092857
CREATED:20190225T173306Z
LAST-MODIFIED:20190226T150009Z
UID:4723-1552078800-1552078800@www.sillonlz.fr
SUMMARY:Le Groupe2 repart en Live (jazz métissé)
DESCRIPTION:Attention ça va chauffer\, ce vendredi 08 Mars\, pour le retour du Groupe2 au Sillon Lauzé (après plusieurs passages girafiques qu’on n’a pas oublié) !! \nPour ceux qui ne le connaitraient pas encore\, le Groupe2\, c’est un dialogue piano / batterie entre 2 musiciens passionnés qui ont beaucoup de notes à s’échanger et à nous raconter. Toutes les tendances du Jazz se retrouvent dans leur musicalité (Fusion\, Free\, Afro\, Rock…)\, où le vrai fil conducteur reste l’improvisation autour de thèmes faciles à aborder. \n \nSylvain Ahivi\nPianiste et clavier\, compositeur. Ses morceaux allient mélodies jazz et rythmes plus chaloupés. Avec une main gauche omniprésente\, qui tient la ligne de basse (héritage des Doors ou Mc Coy Tyner)\, et une main droite plus polissée\, qui mêle mélodie\, harmonie et rythmes syncopés. Pour des compos aux couleurs métissées où l’impro a toute sa place. \nMarc Larguille\nBatteur percussioniste et membre fondateur du groupe. Autodidacte issu de la musique Rock et grand amateur de musiques improvisées\, il se met au service de son partenaire. Selon lui : “Que le thème soit Rock\, Jazz ou Afro-Latin\, ce qui compte\, c’est le mélange des rythmes\, vers une musique métissée…”. \nhttp://www.groupe2.com/ \nEncore une belle soirée musicale en perspective\, où on vous espère nombreuses et nombreux à venir apprécier le talent de ces deux jazzmen hors pair\, qui seront le lendemain au 38Riv\, classieux club parisien.. \n  \nOuverture des portes à 19h00. Concert à 21h00.\nTarif 5€ (ou adhésion annuelle 10€ avec entrée offerte) \n 
URL:https://www.sillonlz.fr/event/le-groupe2-repart-en-live-concert-jazz-rock/
LOCATION:Sillon Lauzé\, Le Pont Pessil\, Marvejols\, Lozère\, 48100\, France
CATEGORIES:Concert
ATTACH;FMTTYPE=image/jpeg:https://www.sillonlz.fr/wp-content/uploads/2019/02/groupe2_08-03-19.jpg
END:VEVENT
BEGIN:VEVENT
DTSTART;TZID=Europe/Paris:20190309T190000
DTEND;TZID=Europe/Paris:20190309T190000
DTSTAMP:20260421T092857
CREATED:20190225T174100Z
LAST-MODIFIED:20190225T175650Z
UID:4732-1552158000-1552158000@www.sillonlz.fr
SUMMARY:Sillon Dansé Déguisé !?
DESCRIPTION:Dans le cadre des festivités du Carnaval de la Ville de Marvejols\, Sillon Lauzé se propose de vous accueillir pour une grande soirée platines colorée et festive aux sonorités Trip Hop / Hip Hop / World / Electro\, afin de vous faire danser tout au long de la soirée. \n  \nEntrée libre dès 19h00. Happy hour de 19h00 à 20h00 ! \n  \nLe Sillon Lauzé est un café culturel associatif\, ce qui implique que l’adhésion à l’asso est nécessaire pour permettre au lieu de continuer à exister. C’est 10 euros pour l’année (de date à date)\, et bien entendu\, on vous offre un verre pour vous souhaiter la bienvenue !
URL:https://www.sillonlz.fr/event/sillon-danse-deguise/
LOCATION:Sillon Lauzé\, Le Pont Pessil\, Marvejols\, Lozère\, 48100\, France
CATEGORIES:Soirée Platines
ATTACH;FMTTYPE=image/jpeg:https://www.sillonlz.fr/wp-content/uploads/2019/02/carnaval.jpg
END:VEVENT
BEGIN:VEVENT
DTSTART;TZID=Europe/Paris:20190314T190000
DTEND;TZID=Europe/Paris:20190314T190000
DTSTAMP:20260421T092857
CREATED:20190305T001512Z
LAST-MODIFIED:20190313T143708Z
UID:4779-1552590000-1552590000@www.sillonlz.fr
SUMMARY:Le Monde de Théo (projection / débat) - COMPLET !
DESCRIPTION:En partenariat avec l’Association Culturelle du Personnel de l’Hôpital de St Alban\, le Sillon Lauzé propose une projection du film Le Monde de Théo\, suivie d’une rencontre avec la maman du petit Théo\, Valérie Gay-Corajoud. \n\nThéo a 2 ans lorsque l’autisme s’invite dans sa vie et par ricochet s’immisce dans celle des siens. Dès lors\, il s’agit d‘accueillir ce fils\, ce frère\, tel qu’il est\, avec toutes ses particularités et ses fragilités.\nContre l’avis des professionnels de la santé\, ils partent à la rencontre de son monde singulier.\nC’est l’histoire de ce voyage dans le monde de Théo que nous raconte sa maman. Celle d’une grande et belle aventure teintée d’incertitude\, de doutes et de peines\, colorée de poésie\, de beauté et tant et tant de victoires… \n\nSolène Caron est psychologue clinicienne de formation et travaille auprès de jeunes autistes.\nLe Monde de Théo est son second film documentaire sur ce sujet. \nEn savoir + sur le film. \n\nValérie Gay-Corajoud\, auteure du livre : Autre-Chose dans la vie de Théo\, a pris le parti de laisser sa carrière de musicienne derrière elle afin de s’occuper de Théo\, son 5ème enfant.\nDepuis plusieurs années\, elle témoigne de sa vie auprès de Théo à travers des interventions lors de divers colloques et des articles sur son blog Mediapart. \n\nSoirée gratuite\, bar sans alcool. \nOuverture à 19h00\, projection à 20h30. \nJauge limitée\, sur réservation. \nRéservations terminées. C’EST COMPLET ! Merci de votre compréhension.
URL:https://www.sillonlz.fr/event/le-monde-de-theo/
LOCATION:Sillon Lauzé\, Le Pont Pessil\, Marvejols\, Lozère\, 48100\, France
CATEGORIES:Projection
ATTACH;FMTTYPE=image/jpeg:https://www.sillonlz.fr/wp-content/uploads/2019/03/le_monde_de_theo_14-03-19.jpg
ORGANIZER;CN="Sillon Lauz%C3%A9":MAILTO:contact@sillonLZ.fr
END:VEVENT
BEGIN:VEVENT
DTSTART;TZID=Europe/Paris:20190315T203000
DTEND;TZID=Europe/Paris:20190315T203000
DTSTAMP:20260421T092857
CREATED:20190313T233121Z
LAST-MODIFIED:20190313T235757Z
UID:4805-1552681800-1552681800@www.sillonlz.fr
SUMMARY:Enregistrement public de l'EmisSillon #007
DESCRIPTION:Extraits musicaux / infos tournées / chroniques dernières sorties et petites pépites de notre disquaire favori Discopathie / coups de cœur des Sillonné.e.s et bien sûr l’agenda des prochaines soirées au Sillon LZ. \nLe tout en live\, sous vos yeux ébahis ! Bonne musique et ambiance sympathique assurées avec les bénévoles du Sillon Lauzé au micro de notre radio amateur\, qui sera diffusée lundi 18 Mars sur 48 FM Mende – Lozère (94.1 sur la bande FM à Mende) à 21h00. \nGratuit adhérent.e.s. (Adhésion annuelle : 10€ avec une boisson offerte.) \nOuverture à 19h00. Happy Hour de 19h00 à 20h00.\nEnregistrement public à partir de 20h30. \n  \nSi vous ne connaissez pas encore Discopathie\, courrez-y ! Vous trouverez les meilleures galettes de Lozère\, cd et vinyles neufs et d’occasion\, ainsi que du matériel hi-fi vintage au 36 rue de la République\, à Marvejols !
URL:https://www.sillonlz.fr/event/enregistrement-public-de-lemissillon-007/
LOCATION:Sillon Lauzé\, Le Pont Pessil\, Marvejols\, Lozère\, 48100\, France
CATEGORIES:Radio Amateur
ATTACH;FMTTYPE=image/jpeg:https://www.sillonlz.fr/wp-content/uploads/2019/03/emissillon_15-03-19.jpg
ORGANIZER;CN="Sillon Lauz%C3%A9":MAILTO:contact@sillonLZ.fr
END:VEVENT
BEGIN:VEVENT
DTSTART;TZID=Europe/Paris:20190321T190000
DTEND;TZID=Europe/Paris:20190321T190000
DTSTAMP:20260421T092857
CREATED:20190318T161024Z
LAST-MODIFIED:20190318T163516Z
UID:4836-1553194800-1553194800@www.sillonlz.fr
SUMMARY:Les Mots Sillon (scène ouverte littéraire)
DESCRIPTION:Dans la droite lignée des soirées scènes ouvertes “Girafe Arts Dits“\, Les Mots Sillon reprennent le flambeau\, animés par le collectif d’impro marvejolais Les Lunatiques. Venez avec vos textes\, ceux que vous aimez\, ceux que vous écrivez (peut-être ?) jeudi 21 mars pour partager un moment convivial\, à l’écoute de chacun.e et de tou.te.s\, porteuses et porteurs des mots Sillon et d’émotion\, sans aucun doute… \nOuverture à 19h00. Happy hour de 19h00 à 20h00. Scène ouverte de 20h30 à 22h00. \n 
URL:https://www.sillonlz.fr/event/les-mots-sillon-scene-ouverte-litteraire/
LOCATION:Sillon Lauzé\, Le Pont Pessil\, Marvejols\, Lozère\, 48100\, France
CATEGORIES:Scène Ouverte
ATTACH;FMTTYPE=image/jpeg:https://www.sillonlz.fr/wp-content/uploads/2019/03/Les-Mots-Sillons-6.jpg
ORGANIZER;CN="Sillon Lauz%C3%A9":MAILTO:contact@sillonLZ.fr
END:VEVENT
BEGIN:VEVENT
DTSTART;TZID=Europe/Paris:20190323T210000
DTEND;TZID=Europe/Paris:20190323T210000
DTSTAMP:20260421T092857
CREATED:20190225T210112Z
LAST-MODIFIED:20190311T123213Z
UID:4754-1553374800-1553374800@www.sillonlz.fr
SUMMARY:Whodunit (rock garage punk œnologie)
DESCRIPTION:Samedi 23 Mars\, retour au ROCK’N’ROLLLLLLLL ! \n\n\n \n\n\nSuite à la sortie remarquée de leur 4e album “Memories From a Shit Hole” il y a quelques mois\, on est plus que ravi.e.s de recevoir les parisiens de Whodunit au Sillon Lauzé\, pour un live qui s’annonce épique\, avec dedans des vrais bons morceaux de guitare\, soutenus par une basse et une batterie solides\, mais aussi désormais un clavier aux sonorités 100% garage\, et toujours de la sueur\, des poils\, de la saturation et de la disto !\n\n  \nUne belle chronique d’un de leur dernier concert – en date du 23 février – est à lire sur le blog de l’ayatollah du rock. Extraits : \n“(..) J’ai beau avoir déjà vu le groupe pas mal de fois\, c’est la toute première occasion qui m’est offerte de tester la formule quintet du groupe\, puisqu’à l’habituel quatuor batterie/basse/2 guitares se greffe un clavier\, que l’on entend déjà pas mal sur le dernier album mais qui ce soir va également mettre sa patte sur les morceaux plus anciens. (…) Comme toujours\, le chanteur-guitariste (…) ne se contente pas de jouer\, il est en contact permanent avec le public\, avec des références récurrentes au vin (le groupe est fan des productions vinicoles…)\, et dans la configuration de la salle du jour cela est encore plus évident\, il pourrait presque aller chercher chaque spectateur pour l’inciter à danser\, chanter\, et en tout cas à être hyper attentif – ce qui est globalement le cas ! (…) Pendant une heure et quart\, le quintet maintient la pression\, avec un savoir-faire impressionnant (…) Les musiciens donnent tout\, et finissent épuisés.” \nUn autre extrait\, en vidéo cette fois\, d’un concert donné il y a quelques temps chez nos amis de L’Eden à Sainte-Enimie : \n \n\nOuverture à 19h00. Concert à 21h00.\n\n\n \n\n\nPAF : 5€ adhérent.e.s\n\n\n(10€ pour l’adhésion annuelle)
URL:https://www.sillonlz.fr/event/whodunit-rock-garage-punk-oenologie/
LOCATION:Sillon Lauzé\, Le Pont Pessil\, Marvejols\, Lozère\, 48100\, France
CATEGORIES:Concert
ATTACH;FMTTYPE=image/jpeg:https://www.sillonlz.fr/wp-content/uploads/2019/02/whodunit_23-03-19.jpg
END:VEVENT
BEGIN:VEVENT
DTSTART;TZID=Europe/Paris:20190328T203000
DTEND;TZID=Europe/Paris:20190328T203000
DTSTAMP:20260421T092857
CREATED:20190314T234310Z
LAST-MODIFIED:20190315T010133Z
UID:4813-1553805000-1553805000@www.sillonlz.fr
SUMMARY:Improvise A Sillon
DESCRIPTION:Tous au Sillon !!! Les Lunatiques remettent ça !! \nEt oui\, une nouvelle soirée de spectacles d’improvisation vous attend\, nous attend\, le jeudi 28 mars\, présenté par ce club de théâtre un peu spécial qui sévit\, depuis quelques mois\, régulièrement en nos murs… Un club très sélect\, dont vous avez peut-être eu le privilège de rencontrer certains membres lors de leur dernière soirée A Voir et A Manger ? \nSi ce n’est pas le cas\, voilà une bonne occasion de vous y frotter. Asocial Club\, certes\, mais convivial quoi qu’il en soit… N’ayez crainte\, nulle victime n’a été à déplorer sur leurs précédents exploits… Bien au contraire\, ce ne sont que sourires et regards pétillants que l’on croise au cours des soirées d’impro qu’ils concoctent avec brio… (“Avec qui ?!”) \nMais le mieux est encore de venir vous rendre compte par vous-mêmes\, et si vous les connaissez déjà\, il n’est rien ici que l’on vous apprenne ! Le rendez-vous\, lui\, est pris. Reste à y faire honneur\, gloire\, et beauté. Et pour cela\, il faut vraiment que tu viennes. \nDe 20h30 à 22h00\, entrée libre pour les adhérent.e.s. Vous connaissez la chanson. (Et sinon elle est fort simple : le Sillon Lauzé est un café associatif\, l’adhésion – individuelle et obligatoire – coûte 10€ pour l’année\, avec un verre offert pour votre première soirée\, et vous permet d’accéder à un monde merveilleux d’événements culturels variés\, souvent musicaux\, mais pas que… Bref\, venez voir sur place\, on vous expliquera ça encore mieux\, surtout eux !)
URL:https://www.sillonlz.fr/event/improvise-a-sillon/
LOCATION:Sillon Lauzé\, Le Pont Pessil\, Marvejols\, Lozère\, 48100\, France
CATEGORIES:Théâtre d'impro
ATTACH;FMTTYPE=image/jpeg:https://www.sillonlz.fr/wp-content/uploads/2019/03/Improvise-A-SILLON.jpg
ORGANIZER;CN="Sillon Lauz%C3%A9":MAILTO:contact@sillonLZ.fr
END:VEVENT
END:VCALENDAR