BEGIN:VCALENDAR
VERSION:2.0
PRODID:-//SILLON LAUZÉ - ECPv6.15.20//NONSGML v1.0//EN
CALSCALE:GREGORIAN
METHOD:PUBLISH
X-WR-CALNAME:SILLON LAUZÉ
X-ORIGINAL-URL:https://www.sillonlz.fr
X-WR-CALDESC:Évènements pour SILLON LAUZÉ
REFRESH-INTERVAL;VALUE=DURATION:PT1H
X-Robots-Tag:noindex
X-PUBLISHED-TTL:PT1H
BEGIN:VTIMEZONE
TZID:Europe/Paris
BEGIN:DAYLIGHT
TZOFFSETFROM:+0100
TZOFFSETTO:+0200
TZNAME:CEST
DTSTART:20170326T010000
END:DAYLIGHT
BEGIN:STANDARD
TZOFFSETFROM:+0200
TZOFFSETTO:+0100
TZNAME:CET
DTSTART:20171029T010000
END:STANDARD
BEGIN:DAYLIGHT
TZOFFSETFROM:+0100
TZOFFSETTO:+0200
TZNAME:CEST
DTSTART:20180325T010000
END:DAYLIGHT
BEGIN:STANDARD
TZOFFSETFROM:+0200
TZOFFSETTO:+0100
TZNAME:CET
DTSTART:20181028T010000
END:STANDARD
BEGIN:DAYLIGHT
TZOFFSETFROM:+0100
TZOFFSETTO:+0200
TZNAME:CEST
DTSTART:20190331T010000
END:DAYLIGHT
BEGIN:STANDARD
TZOFFSETFROM:+0200
TZOFFSETTO:+0100
TZNAME:CET
DTSTART:20191027T010000
END:STANDARD
END:VTIMEZONE
BEGIN:VEVENT
DTSTART;TZID=Europe/Paris:20181202T203000
DTEND;TZID=Europe/Paris:20181202T233000
DTSTAMP:20260421T140858
CREATED:20181202T123626Z
LAST-MODIFIED:20190206T223531Z
UID:4554-1543782600-1543793400@www.sillonlz.fr
SUMMARY:Luci + Adolf Hibou en concert
DESCRIPTION:♥ ♥ ♥ ♥ ♥ ♥ ♥ ♥ ♥ ♥ ♥ ♥ ♥ ♥ ♥ ♥ ♥ ♥ ♥ ♥ ♥ ♥ ♥ ♥ ♥ ♥ ♥ ♥ \n♥ LUCI – (Hip Hop ovni – Los Angeles) \nAdam Stone est Luci. Luci souffle un courant expérimental de conscience dans les eaux boueuses et profondes de la crasse américaine liquéfiée. Humour du fou\, bêtes du mythe\, sexualité déroutante et cœur d’un sincère romantique. Des rimes bien ficelées fusent dans les courses de Luci à travers différents genres\, assemblées dans une méticuleuse composition sonore. Jouant sur la poésie d’une traduction défaillante\, soutenue par de la vidéo et beaucoup de volume sonore\, Luci apporte une explosion extatique qui bat\, broie\, perce et danse\, menant à quelque chose de sauvage. \nécouter: https://screwtoothluci.bandcamp.com/album/church-of-the-white-devil-vol-i \nclip: https://www.youtube.com/watch?v=1Q37DQxId34 http://screwtooth.com/ \n♥ ADOLF HIBOU : (boys-band noise – Montpellier) \nLe boys-band bourrin et inclassable Adolf Hibou invoquera les fantômes de deathembre dans un condensé de musique parodique et d’incantations noise sur-puissantes pour flirter avec les démons (de minuit). \nvidéo club : https://www.youtube.com/watch?v=16XG7tUS9jk\nécouter : https://adolfhibou.bandcamp.com/\nfanclub: https://www.facebook.com/adolfhibou/ \n♥ ♥ ♥ ♥ ♥ ♥ ♥ ♥ ♥ ♥ ♥ ♥ ♥ ♥ ♥ ♥ ♥ ♥ ♥ ♥ ♥ ♥ ♥ ♥ ♥ ♥ ♥ ♥ ♥ ♥♥ \nPAF : 5€ adhérent.e.s.\nEntrée offerte avec l’adhésion annuelle : 10€. \nOuverture 19h00. Concert 21h00.
URL:https://www.sillonlz.fr/event/luci-adolf-hibou-en-concert/
LOCATION:Sillon Lauzé\, Le Pont Pessil\, Marvejols\, Lozère\, 48100\, France
CATEGORIES:Concert
ATTACH;FMTTYPE=image/jpeg:https://www.sillonlz.fr/wp-content/uploads/2018/12/luci_adolf_SLZ_02-12.jpg
ORGANIZER;CN="Sillon Lauz%C3%A9":MAILTO:contact@sillonLZ.fr
END:VEVENT
BEGIN:VEVENT
DTSTART;TZID=Europe/Paris:20181207T203000
DTEND;TZID=Europe/Paris:20181207T233000
DTSTAMP:20260421T140858
CREATED:20181202T133947Z
LAST-MODIFIED:20190206T223524Z
UID:4567-1544214600-1544225400@www.sillonlz.fr
SUMMARY:Laurent Montagne en concert
DESCRIPTION:Si tu as besoin d’un grand bol d’air et de simplicité\, si tu goûtes aux envolées post rock\, si tu as envie de croiser un jongleur de mots et d’émotions\, une bande de musiciens au plaisir communicatif alors bienvenue chez Laurent Montagne. \n« Souviens-moi »\, son déjà huitième album\, dont la sortie nationale est prévue le 25 janvier 2019\, est l’empreint de cette poésie tantôt revendicative\, tantôt contemplative où l’âme se raconte à fleur de peau et les sentiments se déclinent en mode espoir. \nUne poésie portée par l’énergie d’envolées post rock et de mélodies entêtantes. Une complicité partagée en toute simplicité avec le public. Du sens et du son ! \nOuverture des portes à 19h00. \nConcert à 21h00. Entrée 3€ adhérent.e.s. \n(Adhésion annuelle 10€ avec le concert offert.)
URL:https://www.sillonlz.fr/event/laurent-montagne-en-concert/
LOCATION:Sillon Lauzé\, Le Pont Pessil\, Marvejols\, Lozère\, 48100\, France
CATEGORIES:Concert
ATTACH;FMTTYPE=image/jpeg:https://www.sillonlz.fr/wp-content/uploads/2018/12/laurent_montagne_07-12-18_SLZ.jpg
ORGANIZER;CN="Sillon Lauz%C3%A9":MAILTO:contact@sillonLZ.fr
END:VEVENT
END:VCALENDAR