BEGIN:VCALENDAR
VERSION:2.0
PRODID:-//SILLON LAUZÉ - ECPv6.15.20//NONSGML v1.0//EN
CALSCALE:GREGORIAN
METHOD:PUBLISH
X-WR-CALNAME:SILLON LAUZÉ
X-ORIGINAL-URL:https://www.sillonlz.fr
X-WR-CALDESC:Évènements pour SILLON LAUZÉ
REFRESH-INTERVAL;VALUE=DURATION:PT1H
X-Robots-Tag:noindex
X-PUBLISHED-TTL:PT1H
BEGIN:VTIMEZONE
TZID:Europe/Paris
BEGIN:DAYLIGHT
TZOFFSETFROM:+0100
TZOFFSETTO:+0200
TZNAME:CEST
DTSTART:20170326T010000
END:DAYLIGHT
BEGIN:STANDARD
TZOFFSETFROM:+0200
TZOFFSETTO:+0100
TZNAME:CET
DTSTART:20171029T010000
END:STANDARD
BEGIN:DAYLIGHT
TZOFFSETFROM:+0100
TZOFFSETTO:+0200
TZNAME:CEST
DTSTART:20180325T010000
END:DAYLIGHT
BEGIN:STANDARD
TZOFFSETFROM:+0200
TZOFFSETTO:+0100
TZNAME:CET
DTSTART:20181028T010000
END:STANDARD
BEGIN:DAYLIGHT
TZOFFSETFROM:+0100
TZOFFSETTO:+0200
TZNAME:CEST
DTSTART:20190331T010000
END:DAYLIGHT
BEGIN:STANDARD
TZOFFSETFROM:+0200
TZOFFSETTO:+0100
TZNAME:CET
DTSTART:20191027T010000
END:STANDARD
END:VTIMEZONE
BEGIN:VEVENT
DTSTART;TZID=Europe/Paris:20181124T203000
DTEND;TZID=Europe/Paris:20181124T233000
DTSTAMP:20260421T154646
CREATED:20181202T124726Z
LAST-MODIFIED:20190206T223536Z
UID:4563-1543091400-1543102200@www.sillonlz.fr
SUMMARY:Bololipsum\, Charles Henry Le Magnifique et Wirklich Pipite LIVE
DESCRIPTION:La musique sera live\, mais électronique pour une fois\, ce samedi 24 novembre au Sillon Lauzé. \nOn accueille en effet Bololipsum\, bidouilleur de génie qui pratique le Circuit-Bending\, un art bien particulier\, expérimenté depuis les années 70\, qui consiste à modifier ou court-circuiter des jouets électroniques pour s’en servir comme de véritables instruments. \n“On entend beaucoup de belles choses sur ce premier long format de Bololipsum\, le beatmaking d’un Prefuse 73 qui aurait opté pour le circuit-bending d’instruments-jouets\, le lyrisme synth-pop régressif et bariolé d’un Dan Deacon en plein marathon Nintendo (LUCA)\, le groove 8-bit de Fulgeance s’il troquait sa MPC et ses synthés analogiques pour une Game Boy trafiquée (New Cosmos Order)\, et surtout un attrait pour l’espace – il y envoie d’ailleurs un petit chien en éclaireur dès l’intro Laika – qui voit le rétro-futurisme cadencé du Français s’envoler pour des horizons qui restent encore à explorer. (…)” \n[chronique à lire sur Indie Rock Mag : http://www.indierockmag.com/spip.php?article31281] \nhttp://www.bololipsum.com/ \nEn première partie de soirée\, c’est Charles Henry Le Magnifique qui officiera derrière ses machines pour nous installer tranquillement dans l’ambiance\, avec son side-project C H I L L. \nhttps://soundcloud.com/charles-henry-dupuis/charles-henry-chill \nEt en guests surprise de dernière minute\, on accueillera également Wirklich Pipite\, le nouveau projet tout frais de grand David des Toys’r’Noise. C’est de la chanson electro bidouille non identifiable….c’est tout nouveau\, tout beau\, en duo aigre-doux avec Léa (claviers\, chant\, trucs…) – sauce à part. \nVenez curieux ! Venez nombreux !! \nOuverture des portes : 19h00. Live : 21h00.\nPAF 5€ adhérent.e.s (ou adhésion 10€/an).
URL:https://www.sillonlz.fr/event/bololipsum-charles-henry-le-magnifique-et-wirklich-pipite-live/
LOCATION:Sillon Lauzé\, Le Pont Pessil\, Marvejols\, Lozère\, 48100\, France
CATEGORIES:Concert
ATTACH;FMTTYPE=image/jpeg:https://www.sillonlz.fr/wp-content/uploads/2018/12/bololipsum_chlm_24_11.jpg
ORGANIZER;CN="Sillon Lauz%C3%A9":MAILTO:contact@sillonLZ.fr
END:VEVENT
END:VCALENDAR